BEGIN:VCALENDAR
VERSION:2.0
PRODID:-//Wagner Society of New York - ECPv6.15.17//NONSGML v1.0//EN
CALSCALE:GREGORIAN
METHOD:PUBLISH
X-WR-CALNAME:Wagner Society of New York
X-ORIGINAL-URL:https://wagnersocietyny.org
X-WR-CALDESC:Events for Wagner Society of New York
REFRESH-INTERVAL;VALUE=DURATION:PT1H
X-Robots-Tag:noindex
X-PUBLISHED-TTL:PT1H
BEGIN:VTIMEZONE
TZID:UTC
BEGIN:STANDARD
TZOFFSETFROM:+0000
TZOFFSETTO:+0000
TZNAME:UTC
DTSTART:19950101T000000
END:STANDARD
END:VTIMEZONE
BEGIN:VEVENT
DTSTART;TZID=UTC:20120327T000000
DTEND;TZID=UTC:20120327T000000
DTSTAMP:20260423T041527
CREATED:20231104T195107Z
LAST-MODIFIED:20231104T195107Z
UID:10000455-1332806400-1332806400@wagnersocietyny.org
SUMMARY:Opera in HD: A Panel Discussion
DESCRIPTION:Opera in HD: A Panel Discussion. Hilan Warshaw\, moderator; Panelists: Heidi Waleson\, Dr. Brian Large\, and Eric Owens.
URL:https://wagnersocietyny.org/event/opera-in-hd-a-panel-discussion/
CATEGORIES:Artist Talk
END:VEVENT
BEGIN:VEVENT
DTSTART;TZID=UTC:20120123T000000
DTEND;TZID=UTC:20120123T000000
DTSTAMP:20260423T041527
CREATED:20231104T195104Z
LAST-MODIFIED:20231104T195104Z
UID:10000452-1327276800-1327276800@wagnersocietyny.org
SUMMARY:Rienzi: A Discussion
DESCRIPTION:Rienzi: A Discussion. Maestro Eve Queler and  Rienzi soloists: Geraldine Chauvet (mezzo) and Elisabeth Matos (soprano).
URL:https://wagnersocietyny.org/event/rienzi-a-discussion/
CATEGORIES:Artist Talk
END:VEVENT
BEGIN:VEVENT
DTSTART;TZID=UTC:20111207T000000
DTEND;TZID=UTC:20111207T000000
DTSTAMP:20260423T041527
CREATED:20231104T195102Z
LAST-MODIFIED:20231104T195102Z
UID:10000450-1323216000-1323216000@wagnersocietyny.org
SUMMARY:Jonas Kaufmann Reception
DESCRIPTION:Interview and reception with Jonas Kaufmann (tenor) in his honor. With visuals.
URL:https://wagnersocietyny.org/event/jonas-kaufmann-reception/
CATEGORIES:Artist Talk,Reception
END:VEVENT
BEGIN:VEVENT
DTSTART;TZID=UTC:20110408T000000
DTEND;TZID=UTC:20110408T000000
DTSTAMP:20260423T041527
CREATED:20231104T195123Z
LAST-MODIFIED:20231104T195123Z
UID:10000469-1302220800-1302220800@wagnersocietyny.org
SUMMARY:Waltraud Meier Reception
DESCRIPTION:Waltraud Meier (Bayreuth Festival and Met Opera Marie in Wozzeck): interview and reception in her honor. With visuals.
URL:https://wagnersocietyny.org/event/waltraud-meier-reception/
CATEGORIES:Artist Talk,Reception
END:VEVENT
BEGIN:VEVENT
DTSTART;TZID=UTC:20101117T000000
DTEND;TZID=UTC:20101117T000000
DTSTAMP:20260423T041527
CREATED:20231104T195122Z
LAST-MODIFIED:20231104T195122Z
UID:10000463-1289952000-1289952000@wagnersocietyny.org
SUMMARY:The Bridge to Valhalla
DESCRIPTION:Francesca Zambello: The Bridge to Valhalla on her production of the San Francisco Ring and the Glimmerglass Festival. With visuals.
URL:https://wagnersocietyny.org/event/the-bridge-to-valhalla/
CATEGORIES:Artist Talk
END:VEVENT
BEGIN:VEVENT
DTSTART;TZID=UTC:20100915T000000
DTEND;TZID=UTC:20100915T000000
DTSTAMP:20260423T041527
CREATED:20231104T195107Z
LAST-MODIFIED:20231104T195107Z
UID:10000459-1284508800-1284508800@wagnersocietyny.org
SUMMARY:Lepage Ring
DESCRIPTION:Robert Lepage: A Conversation on his Ring production. 
URL:https://wagnersocietyny.org/event/lepage-ring/
CATEGORIES:Artist Talk
END:VEVENT
BEGIN:VEVENT
DTSTART;TZID=UTC:20100203T000000
DTEND;TZID=UTC:20100203T000000
DTSTAMP:20260423T041527
CREATED:20231104T195139Z
LAST-MODIFIED:20231104T195139Z
UID:10000480-1265155200-1265155200@wagnersocietyny.org
SUMMARY:A Tribute to Plácido Domingo
DESCRIPTION:A Tribute to Plácido Domingo: multi-media program and presentation of Anton Seidl Award.
URL:https://wagnersocietyny.org/event/a-tribute-to-placido-domingo/
CATEGORIES:Artist Talk,Award
END:VEVENT
BEGIN:VEVENT
DTSTART;TZID=UTC:20090402T000000
DTEND;TZID=UTC:20090402T000000
DTSTAMP:20260423T041527
CREATED:20231104T195226Z
LAST-MODIFIED:20231104T195226Z
UID:10000495-1238630400-1238630400@wagnersocietyny.org
SUMMARY:Otto Schenk and Joe Clark: A Conversation
DESCRIPTION:“Otto Schenk and Joe Clark: A Conversation.”
URL:https://wagnersocietyny.org/event/otto-schenk-and-joe-clark-a-conversation/
CATEGORIES:Artist Talk
END:VEVENT
BEGIN:VEVENT
DTSTART;TZID=UTC:20081111T000000
DTEND;TZID=UTC:20081111T000000
DTSTAMP:20260423T041527
CREATED:20231104T195210Z
LAST-MODIFIED:20231104T195210Z
UID:10000488-1226361600-1226361600@wagnersocietyny.org
SUMMARY:The First Los Angeles Ring
DESCRIPTION:Maestro James Conlon. “The First Los Angeles Ring.”
URL:https://wagnersocietyny.org/event/the-first-los-angeles-ring/
CATEGORIES:Artist Talk
END:VEVENT
BEGIN:VEVENT
DTSTART;TZID=UTC:20080521T000000
DTEND;TZID=UTC:20080521T000000
DTSTAMP:20260423T041527
CREATED:20231104T195313Z
LAST-MODIFIED:20231104T195313Z
UID:10000512-1211328000-1211328000@wagnersocietyny.org
SUMMARY:Das Liebesverbot at Glimmerglass
DESCRIPTION:Program on  Das Liebesverbot by cast members and director of Glimmerglass Opera (preparation for their presentation of the fully staged American premiere of the opera). 
URL:https://wagnersocietyny.org/event/das-liebesverbot-at-glimmerglass/
CATEGORIES:Artist Talk
END:VEVENT
BEGIN:VEVENT
DTSTART;TZID=UTC:20080129T000000
DTEND;TZID=UTC:20080129T000000
DTSTAMP:20260423T041527
CREATED:20231104T195313Z
LAST-MODIFIED:20231104T195313Z
UID:10000508-1201564800-1201564800@wagnersocietyny.org
SUMMARY:Talk with Anja Silja and Eva Wagner-Pasquier
DESCRIPTION:Conversation with Anja Silja and Eva Wagner-Pasquier. In collaboration with George London Foundation. 
URL:https://wagnersocietyny.org/event/talk-with-anja-silja-and-eva-wagner-pasquier/
CATEGORIES:Artist Talk
END:VEVENT
BEGIN:VEVENT
DTSTART;TZID=UTC:20070412T000000
DTEND;TZID=UTC:20070412T000000
DTSTAMP:20260423T041528
CREATED:20231104T195402Z
LAST-MODIFIED:20231104T195402Z
UID:10000524-1176336000-1176336000@wagnersocietyny.org
SUMMARY:The Three Divas
DESCRIPTION:“The Three Divas” (interview with Martha Mödl\, Birgit Nilsson\, and Astrid Varnay). 
URL:https://wagnersocietyny.org/event/the-three-divas/
CATEGORIES:Artist Talk
END:VEVENT
BEGIN:VEVENT
DTSTART;TZID=UTC:20070226T000000
DTEND;TZID=UTC:20070226T000000
DTSTAMP:20260423T041528
CREATED:20231104T195346Z
LAST-MODIFIED:20231104T195346Z
UID:10000522-1172448000-1172448000@wagnersocietyny.org
SUMMARY:Directing Wagner Today
DESCRIPTION:Francesca Zambello: “Directing Wagner Today.”
URL:https://wagnersocietyny.org/event/directing-wagner-today/
CATEGORIES:Artist Talk
END:VEVENT
BEGIN:VEVENT
DTSTART;TZID=UTC:20051117T000000
DTEND;TZID=UTC:20051117T000000
DTSTAMP:20260423T041528
CREATED:20231104T195434Z
LAST-MODIFIED:20231104T195434Z
UID:10000536-1132185600-1132185600@wagnersocietyny.org
SUMMARY:Talk with Stuart Skelton
DESCRIPTION:Stuart Skelton\, heldentenor. Reception and interview. 
URL:https://wagnersocietyny.org/event/talk-with-stuart-skelton/
CATEGORIES:Artist Talk
END:VEVENT
BEGIN:VEVENT
DTSTART;TZID=UTC:20040210T000000
DTEND;TZID=UTC:20040210T000000
DTSTAMP:20260423T041528
CREATED:20231104T195524Z
LAST-MODIFIED:20231104T195524Z
UID:10000569-1076371200-1076371200@wagnersocietyny.org
SUMMARY:Talk with Pierre Boulez
DESCRIPTION:Maestro Pierre Boulez. Interview and reception.
URL:https://wagnersocietyny.org/event/talk-with-pierre-boulez/
CATEGORIES:Artist Talk
END:VEVENT
BEGIN:VEVENT
DTSTART;TZID=UTC:20011002T000000
DTEND;TZID=UTC:20011002T000000
DTSTAMP:20260423T041528
CREATED:20231104T214011Z
LAST-MODIFIED:20231104T214011Z
UID:10000580-1001980800-1001980800@wagnersocietyny.org
SUMMARY:Talk with Katarina Dalayman
DESCRIPTION:Reception and Interview with Met mezzo-soprano Katarina Dalayman; Lew Grenville\, interviewer. CAMI Hall\, 7:30 p.m.
URL:https://wagnersocietyny.org/event/talk-with-katarina-dalayman/
CATEGORIES:Artist Talk,Reception
END:VEVENT
BEGIN:VEVENT
DTSTART;TZID=UTC:20010511T000000
DTEND;TZID=UTC:20010511T000000
DTSTAMP:20260423T041528
CREATED:20231104T214034Z
LAST-MODIFIED:20231104T214034Z
UID:10000601-989539200-989539200@wagnersocietyny.org
SUMMARY:Lucine Amara Celebration
DESCRIPTION:Honoring the 50th Anniversary of the Met debut of Lucine Amara (soprano). Recital by Mme. Amara; Thomas Bagwell\, pianist\, followed by interview and reception; Lew Grenville\, interviewer. Liederkranz Foundation\, 7:30 p.m.
URL:https://wagnersocietyny.org/event/lucine-amara-celebration/
CATEGORIES:Artist Talk,Recital
END:VEVENT
BEGIN:VEVENT
DTSTART;TZID=UTC:20010408T000000
DTEND;TZID=UTC:20010408T000000
DTSTAMP:20260423T041528
CREATED:20231104T214034Z
LAST-MODIFIED:20231104T214034Z
UID:10000598-986688000-986688000@wagnersocietyny.org
SUMMARY:Talk with Violeta Urmana
DESCRIPTION:Violeta Urmana (Kundry in the Met Parsifal); Robert J. Sweeney\, host (Verena Kossodo\, translator). At CAMI Hall\, 6:00 p.m.
URL:https://wagnersocietyny.org/event/talk-with-violeta-urmana/
CATEGORIES:Artist Talk
END:VEVENT
BEGIN:VEVENT
DTSTART;TZID=UTC:20010320T000000
DTEND;TZID=UTC:20010320T000000
DTSTAMP:20260423T041528
CREATED:20231104T214032Z
LAST-MODIFIED:20231104T214032Z
UID:10000597-985046400-985046400@wagnersocietyny.org
SUMMARY:2001 Seattle Ring
DESCRIPTION:Discussion of the upcoming new Seattle Ring by Speight Jenkins (General Director of the Seattle Opera)\, illustrated by slides and tapes of the production. At the Liederkranz Foundation\, 7:00 p.m.
URL:https://wagnersocietyny.org/event/2001-seattle-ring/
CATEGORIES:Artist Talk
END:VEVENT
BEGIN:VEVENT
DTSTART;TZID=UTC:20001214T000000
DTEND;TZID=UTC:20001214T000000
DTSTAMP:20260423T041528
CREATED:20231104T214032Z
LAST-MODIFIED:20231104T214032Z
UID:10000594-976752000-976752000@wagnersocietyny.org
SUMMARY:Joachim Herz on Der fliegende Holländer
DESCRIPTION:Talk by Prof. Joachim Herz (opera director) on his 1964 film of the opera\, followed by a screening of the film. At the Goethe-Institut\, 7:00-9:30 p.m.
URL:https://wagnersocietyny.org/event/joachim-herz-on-der-fliegende-hollander/
CATEGORIES:Artist Talk,Film Screening
END:VEVENT
BEGIN:VEVENT
DTSTART;TZID=UTC:20000416T000000
DTEND;TZID=UTC:20000416T000000
DTSTAMP:20260423T041528
CREATED:20231104T214106Z
LAST-MODIFIED:20231104T214106Z
UID:10000618-955843200-955843200@wagnersocietyny.org
SUMMARY:Jane Eaglen Reception
DESCRIPTION:Reception and interview with Jane Eaglen (Brünnhilde in the Met Ring) and her husband\, Brian Lyson; Lew Grenville\, interviewer. At the Goethe-Institut\, 4-6p.m.
URL:https://wagnersocietyny.org/event/jane-eaglen-reception/
CATEGORIES:Artist Talk,Reception
END:VEVENT
BEGIN:VEVENT
DTSTART;TZID=UTC:19991121T000000
DTEND;TZID=UTC:19991121T000000
DTSTAMP:20260423T041528
CREATED:20231104T214048Z
LAST-MODIFIED:20231104T214048Z
UID:10000607-943142400-943142400@wagnersocietyny.org
SUMMARY:Wagner Day
DESCRIPTION:Interview and question period with Wolfgang Wagner on the occasion of his and Frau Gudrun Wagner’s five-day visit to New York City. Robert J. Sweeney\, interviewer; Verena Kossodo\, translator. Honorary Chairmen: Dr. Cornel Metternich\, Consul General\, and Dr. Dieter Kastrup\, Ambassador\, Permanent Mission to the United Nations\, of the Federal Republic of Germany. German House\, followed by a gala reception in their honor at the residence of opera philanthropist Alberto Vilar. 2:00 p.m. – 8:00 p.m.
URL:https://wagnersocietyny.org/event/wagner-day/
CATEGORIES:Artist Talk
END:VEVENT
BEGIN:VEVENT
DTSTART;TZID=UTC:19991029T000000
DTEND;TZID=UTC:19991029T000000
DTSTAMP:20260423T041528
CREATED:20231104T214048Z
LAST-MODIFIED:20231104T214048Z
UID:10000605-941155200-941155200@wagnersocietyny.org
SUMMARY:Talk with Inge Borkh and Blanche Thebom
DESCRIPTION:Reception and Interview with Met divas Inge Borkh and Blanche Thebom; Lew Granville\, interviewer. With slides from their Met performances. Liederkranz Foundation\, 7:30 p.m.
URL:https://wagnersocietyny.org/event/talk-with-inge-borkh-and-blanche-thebom/
CATEGORIES:Artist Talk,Reception
END:VEVENT
BEGIN:VEVENT
DTSTART;TZID=UTC:19981016T000000
DTEND;TZID=UTC:19981016T000000
DTSTAMP:20260423T041528
CREATED:20231105T004014Z
LAST-MODIFIED:20231105T004014Z
UID:10000632-908496000-908496000@wagnersocietyny.org
SUMMARY:Talk with Eike Wilm Schulte
DESCRIPTION:Interview\, recital\, and reception. Eike Wilm Schulte (baritone and Herald in Met Lohengrin) interviewed by Anthony Coggi (Verena Kossodo\, translator). Mr. Schulte also performed several selections; Mrs. Kossodo\, pianist. Joint program with The Consulate General of the Federal Republic of Germany. German House\, 871 UN Plaza\, 7:30pm
URL:https://wagnersocietyny.org/event/talk-with-eike-wilm-schulte/
CATEGORIES:Artist Talk,Reception
END:VEVENT
BEGIN:VEVENT
DTSTART;TZID=UTC:19981008T000000
DTEND;TZID=UTC:19981008T000000
DTSTAMP:20260423T041528
CREATED:20231105T004014Z
LAST-MODIFIED:20231105T004014Z
UID:10000631-907804800-907804800@wagnersocietyny.org
SUMMARY:Der gerettete Alberich
DESCRIPTION:Fantasy for Solo Percussion and Orchestra. Lecture by composer Christopher Rouse\, on his work to be given its New York premiere on Nov. 7 by the Philadelphia Orchestra at Carnegie Hall. Leiderkranz Foundation\, 7:30pm
URL:https://wagnersocietyny.org/event/de-gerettete-alberich/
CATEGORIES:Artist Talk
END:VEVENT
BEGIN:VEVENT
DTSTART;TZID=UTC:19980426T000000
DTEND;TZID=UTC:19980426T000000
DTSTAMP:20260423T041528
CREATED:20231105T004133Z
LAST-MODIFIED:20231105T004133Z
UID:10000656-893548800-893548800@wagnersocietyny.org
SUMMARY:Talk with Jon Vickers
DESCRIPTION:Reception and Interview: Jon Vickers\, world-renowned heldentenor; Thurmond Smithall\, interviewer. Program included a videotape of his United Nations performances (Danila Mendoza\, producer). New York Genealogical Society\, 7pm
URL:https://wagnersocietyny.org/event/talk-with-jon-vickers/
CATEGORIES:Artist Talk,Reception
END:VEVENT
BEGIN:VEVENT
DTSTART;TZID=UTC:19970202T000000
DTEND;TZID=UTC:19970202T000000
DTSTAMP:20260423T041528
CREATED:20231105T004204Z
LAST-MODIFIED:20231105T004204Z
UID:10000665-854841600-854841600@wagnersocietyny.org
SUMMARY:Tristan und Isolde Symposium
DESCRIPTION:Principals: Prof. Timothy P. Martin and Geoffrey S. Riggs. Preparation for the Opera Orchestra of New York’s concert performance. Dicapo Opera Theatre; Sunday\, 3:00 p.m.
URL:https://wagnersocietyny.org/event/tristan-und-isolde-symposium/
CATEGORIES:Artist Talk
END:VEVENT
BEGIN:VEVENT
DTSTART;TZID=UTC:19961214T000000
DTEND;TZID=UTC:19961214T000000
DTSTAMP:20260423T041528
CREATED:20231105T004204Z
LAST-MODIFIED:20231105T004204Z
UID:10000663-850521600-850521600@wagnersocietyny.org
SUMMARY:A Tribute to Jerome Hines
DESCRIPTION:Gala concert and tributes\, including one from the Society\, on the 50th anniversary of his Met debut. Alice Tully Hall; Saturday\, 8:00 p.m.
URL:https://wagnersocietyny.org/event/a-tribute-to-jerome-hines/
CATEGORIES:Artist Talk,Recital
END:VEVENT
BEGIN:VEVENT
DTSTART;TZID=UTC:19961117T000000
DTEND;TZID=UTC:19961117T000000
DTSTAMP:20260423T041528
CREATED:20231105T004149Z
LAST-MODIFIED:20231105T004149Z
UID:10000661-848188800-848188800@wagnersocietyny.org
SUMMARY:Met Orchestra Roundtable
DESCRIPTION:View from the Pit. Principals: Ira Lieberman (violin)\, Richard Reissig (French horn and Wagner tuba)\, Marvin Topolsky (string bass); Robert J. Sweeney\, moderator. Community Church —Assembly Hall (40 East 35th Street); Sunday\, 2:30 p.m.
URL:https://wagnersocietyny.org/event/met-orchestra-roundtable/
CATEGORIES:Artist Talk
END:VEVENT
BEGIN:VEVENT
DTSTART;TZID=UTC:19960926T000000
DTEND;TZID=UTC:19960926T000000
DTSTAMP:20260423T041528
CREATED:20231105T004149Z
LAST-MODIFIED:20231105T004149Z
UID:10000659-843696000-843696000@wagnersocietyny.org
SUMMARY:Arizona Ring 1996
DESCRIPTION:A Discussion. With Arizona Opera Ring principals Janet Northway\, Caroline Whisnant\, Mark Rehnstrom\, and Edward Russell; Thurmond Smithgall\, moderator. Program also included slides of the new Lyric Opera of Chicago Ring. Liederkranz Foundation; Thursday\, 7:30 p.m.
URL:https://wagnersocietyny.org/event/arizona-ring-1996/
CATEGORIES:Artist Talk,Lecture
END:VEVENT
END:VCALENDAR