BEGIN:VCALENDAR
VERSION:2.0
PRODID:-//Wagner Society of New York - ECPv6.15.17//NONSGML v1.0//EN
CALSCALE:GREGORIAN
METHOD:PUBLISH
X-ORIGINAL-URL:https://wagnersocietyny.org
X-WR-CALDESC:Events for Wagner Society of New York
REFRESH-INTERVAL;VALUE=DURATION:PT1H
X-Robots-Tag:noindex
X-PUBLISHED-TTL:PT1H
BEGIN:VTIMEZONE
TZID:America/New_York
BEGIN:DAYLIGHT
TZOFFSETFROM:-0500
TZOFFSETTO:-0400
TZNAME:EDT
DTSTART:20240310T070000
END:DAYLIGHT
BEGIN:STANDARD
TZOFFSETFROM:-0400
TZOFFSETTO:-0500
TZNAME:EST
DTSTART:20241103T060000
END:STANDARD
BEGIN:DAYLIGHT
TZOFFSETFROM:-0500
TZOFFSETTO:-0400
TZNAME:EDT
DTSTART:20250309T070000
END:DAYLIGHT
BEGIN:STANDARD
TZOFFSETFROM:-0400
TZOFFSETTO:-0500
TZNAME:EST
DTSTART:20251102T060000
END:STANDARD
BEGIN:DAYLIGHT
TZOFFSETFROM:-0500
TZOFFSETTO:-0400
TZNAME:EDT
DTSTART:20260308T070000
END:DAYLIGHT
BEGIN:STANDARD
TZOFFSETFROM:-0400
TZOFFSETTO:-0500
TZNAME:EST
DTSTART:20261101T060000
END:STANDARD
END:VTIMEZONE
BEGIN:VEVENT
DTSTART;TZID=America/New_York:20250911T190000
DTEND;TZID=America/New_York:20250911T203000
DTSTAMP:20260423T090448
CREATED:20250714T133643Z
LAST-MODIFIED:20250908T173005Z
UID:10000806-1757617200-1757622600@wagnersocietyny.org
SUMMARY:Reports from Bayreuth: Meistersinger Panel Discussion
DESCRIPTION:Our annual event highlighting the summer festival season\, this year we devote our program to the Bayreuth Festival’s new production premiere: Die Meistersinger von Nürnberg directed by Matthias Davids. Join us in a panel discussion discussing this work in context with those who attended the Festival\, examining how the musical and dramatic interpretation reframe Meistersinger within today’s cultural landscape\, sparking debate about tradition\, innovation\, and Wagner’s enduring relevance. \nWe’ll begin with insights from our two scholarship winners\, who will share their experiences attending the Festival this summer. The program continues with a panel discussion on the new Meistersinger von Nürnberg production: a staging by Matthias Davids that has sparked widespread conversation. The conversation will examine what makes a production “Wagnerian\,” how effective the comedy is across text\, music\, and staging\, and how technologies like Live-in-HD and streaming are reshaping opera today. Panelists include Jillian Murray\, Griffin Kaiser\, and Sanford Schwartz. This event is designed to spark thoughtful debate about tradition\, innovation\, and Wagner’s enduring relevance. Ample time will be devoted to audience Q&A and discussion\, allowing members to add their voices and perspectives. \nThe event will be followed by a social hour with refreshments. \nLivestream: the event will be livestreamed (viewable up to 36 hours after the start of the event). WSNY Members will receive livestream link automatically by e-mail; no need to pre-register.
URL:https://wagnersocietyny.org/event/reports-from-bayreuth-meistersinger-panel-discussion/
LOCATION:National Opera Center\, 330 Seventh Avenue\, 7th Floor\, New York\, NY\, 10001\, United States
CATEGORIES:Bayreuth
ATTACH;FMTTYPE=image/jpeg:https://wagnersocietyny.org/wp-content/uploads/2025/07/Meistersinger-sm.jpg
END:VEVENT
END:VCALENDAR