BEGIN:VCALENDAR
VERSION:2.0
PRODID:-//Wagner Society of New York - ECPv6.15.17//NONSGML v1.0//EN
CALSCALE:GREGORIAN
METHOD:PUBLISH
X-ORIGINAL-URL:https://wagnersocietyny.org
X-WR-CALDESC:Events for Wagner Society of New York
REFRESH-INTERVAL;VALUE=DURATION:PT1H
X-Robots-Tag:noindex
X-PUBLISHED-TTL:PT1H
BEGIN:VTIMEZONE
TZID:America/New_York
BEGIN:DAYLIGHT
TZOFFSETFROM:-0500
TZOFFSETTO:-0400
TZNAME:EDT
DTSTART:20250309T070000
END:DAYLIGHT
BEGIN:STANDARD
TZOFFSETFROM:-0400
TZOFFSETTO:-0500
TZNAME:EST
DTSTART:20251102T060000
END:STANDARD
BEGIN:DAYLIGHT
TZOFFSETFROM:-0500
TZOFFSETTO:-0400
TZNAME:EDT
DTSTART:20260308T070000
END:DAYLIGHT
BEGIN:STANDARD
TZOFFSETFROM:-0400
TZOFFSETTO:-0500
TZNAME:EST
DTSTART:20261101T060000
END:STANDARD
BEGIN:DAYLIGHT
TZOFFSETFROM:-0500
TZOFFSETTO:-0400
TZNAME:EDT
DTSTART:20270314T070000
END:DAYLIGHT
BEGIN:STANDARD
TZOFFSETFROM:-0400
TZOFFSETTO:-0500
TZNAME:EST
DTSTART:20271107T060000
END:STANDARD
END:VTIMEZONE
BEGIN:VEVENT
DTSTART;TZID=America/New_York:20260114T183000
DTEND;TZID=America/New_York:20260114T203000
DTSTAMP:20260423T000534
CREATED:20250728T152949Z
LAST-MODIFIED:20260109T212644Z
UID:10000809-1768415400-1768422600@wagnersocietyny.org
SUMMARY:Jeffrey Swann on the Music of the Ring
DESCRIPTION:Join us for a special event celebrating the release of The Music of the Ring: A Comprehensive Study of the Leitmotives and How They Are Used in Der Ring des Nibelungen. This monumental book—nearly 750 pages—offers an unparalleled deep dive into Wagner’s use of leitmotif\, analyzing thousands of individual moments and hundreds of thematic phrases. With its meticulous detail and structural insights\, it promises to become an essential resource for scholars\, performers\, and seriously engaged listeners alike. For this event\, Swann will give his talk from the piano\, illustrating key musical passages by playing them live at the keyboard. \nThe author\, Jeffrey Swann\, brings extraordinary expertise to the project. A celebrated American pianist and internationally renowned Wagner scholar\, Swann has performed and lectured widely—from solo recitals with top orchestras in the U.S.\, Europe\, Latin America and Asia\, to lecture‑recitals at the Bayreuth Festival and numerous Wagner Society events. Swann’s dual identity as performer and scholar allows him to illuminate deeply musical and dramatic structures—from the introduction: \n“Ultimately\, this work rests on a paradox: it pinpoints in detail thousands of individual moments and analyzes hundreds of short phrases. Its value\, on the other hand\, lies in deepening and enhancing our appreciation of The Ring as a whole: to gain a better sense of its narrative and musical sweep\, to understand its dynamic unity\, it many structural features–and in the end\, to gain deeper insights into its meanings.” \nThe event will be followed by a social hour with refreshments. Copies of the book will be available for purchase at the event. \nThe program will be preceded by a brief Annual Membership Meeting. The purpose of the Annual Meeting is to elect the 2026-27 Board of Directors and the transaction of such other business as may properly come before the meeting. Your vote is needed! Members of record will receive proxy forms by postal and email or can download here. \nLivestream: the event will be livestreamed (viewable up to 36 hours after the start of the event). WSNY Members receive livestream link automatically by e-mail; no need to pre-register.
URL:https://wagnersocietyny.org/event/jeffrey-swann-on-the-music-of-the-ring/
LOCATION:National Opera Center\, 330 Seventh Avenue\, 7th Floor\, New York\, NY\, 10001\, United States
CATEGORIES:Book Signing
ATTACH;FMTTYPE=image/jpeg:https://wagnersocietyny.org/wp-content/uploads/2023/12/IMG_1287-2.jpg
END:VEVENT
END:VCALENDAR