BEGIN:VCALENDAR
VERSION:2.0
PRODID:-//Wagner Society of New York - ECPv6.15.17//NONSGML v1.0//EN
CALSCALE:GREGORIAN
METHOD:PUBLISH
X-WR-CALNAME:Wagner Society of New York
X-ORIGINAL-URL:https://wagnersocietyny.org
X-WR-CALDESC:Events for Wagner Society of New York
REFRESH-INTERVAL;VALUE=DURATION:PT1H
X-Robots-Tag:noindex
X-PUBLISHED-TTL:PT1H
BEGIN:VTIMEZONE
TZID:America/New_York
BEGIN:DAYLIGHT
TZOFFSETFROM:-0500
TZOFFSETTO:-0400
TZNAME:EDT
DTSTART:20230312T070000
END:DAYLIGHT
BEGIN:STANDARD
TZOFFSETFROM:-0400
TZOFFSETTO:-0500
TZNAME:EST
DTSTART:20231105T060000
END:STANDARD
BEGIN:DAYLIGHT
TZOFFSETFROM:-0500
TZOFFSETTO:-0400
TZNAME:EDT
DTSTART:20240310T070000
END:DAYLIGHT
BEGIN:STANDARD
TZOFFSETFROM:-0400
TZOFFSETTO:-0500
TZNAME:EST
DTSTART:20241103T060000
END:STANDARD
BEGIN:DAYLIGHT
TZOFFSETFROM:-0500
TZOFFSETTO:-0400
TZNAME:EDT
DTSTART:20250309T070000
END:DAYLIGHT
BEGIN:STANDARD
TZOFFSETFROM:-0400
TZOFFSETTO:-0500
TZNAME:EST
DTSTART:20251102T060000
END:STANDARD
BEGIN:DAYLIGHT
TZOFFSETFROM:-0500
TZOFFSETTO:-0400
TZNAME:EDT
DTSTART:20260308T070000
END:DAYLIGHT
BEGIN:STANDARD
TZOFFSETFROM:-0400
TZOFFSETTO:-0500
TZNAME:EST
DTSTART:20261101T060000
END:STANDARD
BEGIN:DAYLIGHT
TZOFFSETFROM:-0500
TZOFFSETTO:-0400
TZNAME:EDT
DTSTART:20270314T070000
END:DAYLIGHT
BEGIN:STANDARD
TZOFFSETFROM:-0400
TZOFFSETTO:-0500
TZNAME:EST
DTSTART:20271107T060000
END:STANDARD
END:VTIMEZONE
BEGIN:VEVENT
DTSTART;TZID=America/New_York:20260310T180000
DTEND;TZID=America/New_York:20260310T193000
DTSTAMP:20260423T024410
CREATED:20250619T165256Z
LAST-MODIFIED:20260331T190409Z
UID:10000787-1773165600-1773171000@wagnersocietyny.org
SUMMARY:Five-Part Course: Wagner's Tristan und Isolde
DESCRIPTION:In the spring of 2026\, the Metropolitan Opera will unveil a new production of Wagner’s Tristan und Isolde; we offer this course\, taught by John J. H. Muller IV\, Faculty Emeritus\, The Juilliard School\, to enhance our members’ understanding and appreciation of the work. \nSince its premiere in 1865\, Tristan has exerted an overwhelming impact on audiences. After hearing Tristan for the first time\, Bruno Walter wrote\, “Wagner was my God\, and I wanted to become his prophet.” To understand Wagner’s world of longing\, night\, and death\, we explore Tristan in a variety of ways\, starting with the sources\, the creation of the libretto\, and the genesis of the work. The primary focus of the course is on Wagner’s use of erotically-charged chromatic harmonies\, an orchestral web of leitmotifs\, and subtle orchestration to embody the inner\, psychological world of his characters and the overall musical drama. The reception of this challenging work is studied\, along with its extraordinary influence on later composers. We also consider approaches to staging Tristan\, a work in which almost nothing happens on the stage. Classes are illustrated with a variety of recordings and videos demonstrating different interpretive approaches to the work by renowned artists. \nThis course is offered in collaboration with Juilliard Extension. \nFive sessions: Tuesdays 6:00 – 7:30pm\, February 3 – March 10\, (no session March 3); in-person only \nAbout the instructor: John J. H. Muller IV is professor emeritus in the Music Department at The Juilliard School and has given independent courses on Wagner and other composers. He presented the Society’s Bayreuth lecture series from 2010 to 2019. \n \nPricing: Regularly $280\, 50% discount for WSNY members ($140) – see email for discount code \nRegistration Online only via Juilliard Extension.
URL:https://wagnersocietyny.org/event/five-part-course-wagners-tristan-und-isolde/2026-03-10/
LOCATION:The Juilliard School\, 60 Lincoln Center Plaza\, New York\, NY\, 10023\, United States
CATEGORIES:Course
ATTACH;FMTTYPE=image/jpeg:https://wagnersocietyny.org/wp-content/uploads/2025/06/J3649_Juilliard_2025_Extension_Catalog_Image-1.jpg
END:VEVENT
BEGIN:VEVENT
DTSTART;TZID=America/New_York:20260224T180000
DTEND;TZID=America/New_York:20260224T193000
DTSTAMP:20260423T024410
CREATED:20250619T165256Z
LAST-MODIFIED:20260331T190409Z
UID:10000785-1771956000-1771961400@wagnersocietyny.org
SUMMARY:Five-Part Course: Wagner's Tristan und Isolde
DESCRIPTION:In the spring of 2026\, the Metropolitan Opera will unveil a new production of Wagner’s Tristan und Isolde; we offer this course\, taught by John J. H. Muller IV\, Faculty Emeritus\, The Juilliard School\, to enhance our members’ understanding and appreciation of the work. \nSince its premiere in 1865\, Tristan has exerted an overwhelming impact on audiences. After hearing Tristan for the first time\, Bruno Walter wrote\, “Wagner was my God\, and I wanted to become his prophet.” To understand Wagner’s world of longing\, night\, and death\, we explore Tristan in a variety of ways\, starting with the sources\, the creation of the libretto\, and the genesis of the work. The primary focus of the course is on Wagner’s use of erotically-charged chromatic harmonies\, an orchestral web of leitmotifs\, and subtle orchestration to embody the inner\, psychological world of his characters and the overall musical drama. The reception of this challenging work is studied\, along with its extraordinary influence on later composers. We also consider approaches to staging Tristan\, a work in which almost nothing happens on the stage. Classes are illustrated with a variety of recordings and videos demonstrating different interpretive approaches to the work by renowned artists. \nThis course is offered in collaboration with Juilliard Extension. \nFive sessions: Tuesdays 6:00 – 7:30pm\, February 3 – March 10\, (no session March 3); in-person only \nAbout the instructor: John J. H. Muller IV is professor emeritus in the Music Department at The Juilliard School and has given independent courses on Wagner and other composers. He presented the Society’s Bayreuth lecture series from 2010 to 2019. \n \nPricing: Regularly $280\, 50% discount for WSNY members ($140) – see email for discount code \nRegistration Online only via Juilliard Extension.
URL:https://wagnersocietyny.org/event/five-part-course-wagners-tristan-und-isolde/2026-02-24/
LOCATION:The Juilliard School\, 60 Lincoln Center Plaza\, New York\, NY\, 10023\, United States
CATEGORIES:Course
ATTACH;FMTTYPE=image/jpeg:https://wagnersocietyny.org/wp-content/uploads/2025/06/J3649_Juilliard_2025_Extension_Catalog_Image-1.jpg
END:VEVENT
BEGIN:VEVENT
DTSTART;TZID=America/New_York:20260217T180000
DTEND;TZID=America/New_York:20260217T193000
DTSTAMP:20260423T024410
CREATED:20250619T165256Z
LAST-MODIFIED:20260331T190409Z
UID:10000784-1771351200-1771356600@wagnersocietyny.org
SUMMARY:Five-Part Course: Wagner's Tristan und Isolde
DESCRIPTION:In the spring of 2026\, the Metropolitan Opera will unveil a new production of Wagner’s Tristan und Isolde; we offer this course\, taught by John J. H. Muller IV\, Faculty Emeritus\, The Juilliard School\, to enhance our members’ understanding and appreciation of the work. \nSince its premiere in 1865\, Tristan has exerted an overwhelming impact on audiences. After hearing Tristan for the first time\, Bruno Walter wrote\, “Wagner was my God\, and I wanted to become his prophet.” To understand Wagner’s world of longing\, night\, and death\, we explore Tristan in a variety of ways\, starting with the sources\, the creation of the libretto\, and the genesis of the work. The primary focus of the course is on Wagner’s use of erotically-charged chromatic harmonies\, an orchestral web of leitmotifs\, and subtle orchestration to embody the inner\, psychological world of his characters and the overall musical drama. The reception of this challenging work is studied\, along with its extraordinary influence on later composers. We also consider approaches to staging Tristan\, a work in which almost nothing happens on the stage. Classes are illustrated with a variety of recordings and videos demonstrating different interpretive approaches to the work by renowned artists. \nThis course is offered in collaboration with Juilliard Extension. \nFive sessions: Tuesdays 6:00 – 7:30pm\, February 3 – March 10\, (no session March 3); in-person only \nAbout the instructor: John J. H. Muller IV is professor emeritus in the Music Department at The Juilliard School and has given independent courses on Wagner and other composers. He presented the Society’s Bayreuth lecture series from 2010 to 2019. \n \nPricing: Regularly $280\, 50% discount for WSNY members ($140) – see email for discount code \nRegistration Online only via Juilliard Extension.
URL:https://wagnersocietyny.org/event/five-part-course-wagners-tristan-und-isolde/2026-02-17/
LOCATION:The Juilliard School\, 60 Lincoln Center Plaza\, New York\, NY\, 10023\, United States
CATEGORIES:Course
ATTACH;FMTTYPE=image/jpeg:https://wagnersocietyny.org/wp-content/uploads/2025/06/J3649_Juilliard_2025_Extension_Catalog_Image-1.jpg
END:VEVENT
BEGIN:VEVENT
DTSTART;TZID=America/New_York:20260210T180000
DTEND;TZID=America/New_York:20260210T193000
DTSTAMP:20260423T024410
CREATED:20250619T165256Z
LAST-MODIFIED:20260331T190409Z
UID:10000783-1770746400-1770751800@wagnersocietyny.org
SUMMARY:Five-Part Course: Wagner's Tristan und Isolde
DESCRIPTION:In the spring of 2026\, the Metropolitan Opera will unveil a new production of Wagner’s Tristan und Isolde; we offer this course\, taught by John J. H. Muller IV\, Faculty Emeritus\, The Juilliard School\, to enhance our members’ understanding and appreciation of the work. \nSince its premiere in 1865\, Tristan has exerted an overwhelming impact on audiences. After hearing Tristan for the first time\, Bruno Walter wrote\, “Wagner was my God\, and I wanted to become his prophet.” To understand Wagner’s world of longing\, night\, and death\, we explore Tristan in a variety of ways\, starting with the sources\, the creation of the libretto\, and the genesis of the work. The primary focus of the course is on Wagner’s use of erotically-charged chromatic harmonies\, an orchestral web of leitmotifs\, and subtle orchestration to embody the inner\, psychological world of his characters and the overall musical drama. The reception of this challenging work is studied\, along with its extraordinary influence on later composers. We also consider approaches to staging Tristan\, a work in which almost nothing happens on the stage. Classes are illustrated with a variety of recordings and videos demonstrating different interpretive approaches to the work by renowned artists. \nThis course is offered in collaboration with Juilliard Extension. \nFive sessions: Tuesdays 6:00 – 7:30pm\, February 3 – March 10\, (no session March 3); in-person only \nAbout the instructor: John J. H. Muller IV is professor emeritus in the Music Department at The Juilliard School and has given independent courses on Wagner and other composers. He presented the Society’s Bayreuth lecture series from 2010 to 2019. \n \nPricing: Regularly $280\, 50% discount for WSNY members ($140) – see email for discount code \nRegistration Online only via Juilliard Extension.
URL:https://wagnersocietyny.org/event/five-part-course-wagners-tristan-und-isolde/2026-02-10/
LOCATION:The Juilliard School\, 60 Lincoln Center Plaza\, New York\, NY\, 10023\, United States
CATEGORIES:Course
ATTACH;FMTTYPE=image/jpeg:https://wagnersocietyny.org/wp-content/uploads/2025/06/J3649_Juilliard_2025_Extension_Catalog_Image-1.jpg
END:VEVENT
BEGIN:VEVENT
DTSTART;TZID=America/New_York:20260203T180000
DTEND;TZID=America/New_York:20260203T193000
DTSTAMP:20260423T024410
CREATED:20250619T165256Z
LAST-MODIFIED:20260331T190409Z
UID:10000782-1770141600-1770147000@wagnersocietyny.org
SUMMARY:Five-Part Course: Wagner's Tristan und Isolde
DESCRIPTION:In the spring of 2026\, the Metropolitan Opera will unveil a new production of Wagner’s Tristan und Isolde; we offer this course\, taught by John J. H. Muller IV\, Faculty Emeritus\, The Juilliard School\, to enhance our members’ understanding and appreciation of the work. \nSince its premiere in 1865\, Tristan has exerted an overwhelming impact on audiences. After hearing Tristan for the first time\, Bruno Walter wrote\, “Wagner was my God\, and I wanted to become his prophet.” To understand Wagner’s world of longing\, night\, and death\, we explore Tristan in a variety of ways\, starting with the sources\, the creation of the libretto\, and the genesis of the work. The primary focus of the course is on Wagner’s use of erotically-charged chromatic harmonies\, an orchestral web of leitmotifs\, and subtle orchestration to embody the inner\, psychological world of his characters and the overall musical drama. The reception of this challenging work is studied\, along with its extraordinary influence on later composers. We also consider approaches to staging Tristan\, a work in which almost nothing happens on the stage. Classes are illustrated with a variety of recordings and videos demonstrating different interpretive approaches to the work by renowned artists. \nThis course is offered in collaboration with Juilliard Extension. \nFive sessions: Tuesdays 6:00 – 7:30pm\, February 3 – March 10\, (no session March 3); in-person only \nAbout the instructor: John J. H. Muller IV is professor emeritus in the Music Department at The Juilliard School and has given independent courses on Wagner and other composers. He presented the Society’s Bayreuth lecture series from 2010 to 2019. \n \nPricing: Regularly $280\, 50% discount for WSNY members ($140) – see email for discount code \nRegistration Online only via Juilliard Extension.
URL:https://wagnersocietyny.org/event/five-part-course-wagners-tristan-und-isolde/2026-02-03/
LOCATION:The Juilliard School\, 60 Lincoln Center Plaza\, New York\, NY\, 10023\, United States
CATEGORIES:Course
ATTACH;FMTTYPE=image/jpeg:https://wagnersocietyny.org/wp-content/uploads/2025/06/J3649_Juilliard_2025_Extension_Catalog_Image-1.jpg
END:VEVENT
BEGIN:VEVENT
DTSTART;TZID=America/New_York:20240911T173000
DTEND;TZID=America/New_York:20240911T190000
DTSTAMP:20260423T024410
CREATED:20240804T221511Z
LAST-MODIFIED:20240823T111050Z
UID:10000750-1726075800-1726081200@wagnersocietyny.org
SUMMARY:Six Part Course: “Wagner: Questions of Influence and Originality”
DESCRIPTION:A six-part course \, “Wagner: Questions of Influence and Originality\,” taught by Juilliard Professor John J.H. Muller\, IV. \nThe course poses the question: To what degree is any artist original? What role do the achievements of other artists\, earlier and contemporary\, play in influencing a composer as “original” as Richard Wagner?  Wagner occupies a special position in the history of music\, both for his body of work and for his influence. Wagner’s own development was not linear; the past\, present\, and future of opera are present in all his works. \nSchedule:\nDates are six non-consecutive Wednesdays from 5:30-7:00 p.m. as follows: \nSeptember 11\nSeptember 18\nSeptember 25\nOctober 9\nOctober 16\nOctober 23 \nAll six classes are offered as a series\, not individually\, and the course price is $300 for WSNY members\, and $375 for non-members. \nThe Experience: This course is conceptual in nature\, rather than focusing on a single opera or musical issue – though these will certainly be referred to – nor is it “Wagner 101”. Students will likely have a familiarity with the plots to the works and basic issues relating to Wagner’s career\, dramatic concept\, music\, and achievements. An introduction to Wagner’s musical forbears will be covered in the first session. \nStudents will be provided with handouts and an extensive bibliography for further enrichment. Lectures will be accompanied by audio and video excerpts\, and there will be time for Q&A\, generally at the end of class. \nVenue & Accessibility: Classes will be held in-person only in the MacKay Studio of the National Opera Center\, 330 Seventh Avenue (between 29/28 Streets)\, 7th Floor\, New York\, NY \nThe Opera America building has ground-level entry with elevators to the 7th floor.  Wheelchair accessible; modular seating will be arranged to accommodate wheelchairs and walkers. Handicap-accessible restrooms are available on the same floor. The venue is located on the west side of 7th Avenue between 28th-29th Streets\, closer to 29th Street. Sidewalk curb cuts at the 29th Street corner are uneven; for easier access and tactile paving enter from the 28th Street corner (at the downtown #1 subway station).
URL:https://wagnersocietyny.org/event/six-part-course-wagner-questions-of-influence-and-originality/
LOCATION:National Opera Center\, 330 Seventh Avenue\, 7th Floor\, New York\, NY\, 10001\, United States
CATEGORIES:Course
ATTACH;FMTTYPE=image/jpeg:https://wagnersocietyny.org/wp-content/uploads/2024/08/IMG_1429-sm.jpg
END:VEVENT
END:VCALENDAR