BEGIN:VCALENDAR
VERSION:2.0
PRODID:-//Wagner Society of New York - ECPv6.15.17//NONSGML v1.0//EN
CALSCALE:GREGORIAN
METHOD:PUBLISH
X-WR-CALNAME:Wagner Society of New York
X-ORIGINAL-URL:https://wagnersocietyny.org
X-WR-CALDESC:Events for Wagner Society of New York
REFRESH-INTERVAL;VALUE=DURATION:PT1H
X-Robots-Tag:noindex
X-PUBLISHED-TTL:PT1H
BEGIN:VTIMEZONE
TZID:UTC
BEGIN:STANDARD
TZOFFSETFROM:+0000
TZOFFSETTO:+0000
TZNAME:UTC
DTSTART:19920101T000000
END:STANDARD
END:VTIMEZONE
BEGIN:VEVENT
DTSTART;TZID=UTC:20110118T000000
DTEND;TZID=UTC:20110118T000000
DTSTAMP:20260422T191241
CREATED:20231104T195122Z
LAST-MODIFIED:20231104T195122Z
UID:10000466-1295308800-1295308800@wagnersocietyny.org
SUMMARY:Joseph Urban Exhibit
DESCRIPTION:Guided tour of Joseph Urban exhibit at Columbia University. 
URL:https://wagnersocietyny.org/event/joseph-urban-exhibit/
CATEGORIES:Excursion
END:VEVENT
BEGIN:VEVENT
DTSTART;TZID=UTC:20090501T000000
DTEND;TZID=UTC:20090501T000000
DTSTAMP:20260422T191241
CREATED:20231104T195242Z
LAST-MODIFIED:20231104T195242Z
UID:10000500-1241136000-1241136000@wagnersocietyny.org
SUMMARY:Rhine Journey on the Hudson
DESCRIPTION:“Rhine Journey on the Hudson”: dinner cruise in New York harbor.
URL:https://wagnersocietyny.org/event/rhine-journey-on-the-hudson-3/
CATEGORIES:Excursion
END:VEVENT
BEGIN:VEVENT
DTSTART;TZID=UTC:20070715T000000
DTEND;TZID=UTC:20070715T000000
DTSTAMP:20260422T191241
CREATED:20231104T195418Z
LAST-MODIFIED:20231104T195418Z
UID:10000530-1184457600-1184457600@wagnersocietyny.org
SUMMARY:Rhine Journey on the Hudson
DESCRIPTION:“Rhine Journey on the Hudson.” 4-1/2 hour harbor dinner cruise on the World Yacht  Princess. 
URL:https://wagnersocietyny.org/event/rhine-journey-on-the-hudson-4/
CATEGORIES:Excursion
END:VEVENT
BEGIN:VEVENT
DTSTART;TZID=UTC:20000428T000000
DTEND;TZID=UTC:20000428T000000
DTSTAMP:20260422T191241
CREATED:20231104T214120Z
LAST-MODIFIED:20231104T214120Z
UID:10000626-956880000-956880000@wagnersocietyny.org
SUMMARY:Rhine Journey on the Hudson
DESCRIPTION:Four-hour dinner cruise on the luxury yacht Mystique in honor of the Met Ring. Guests of Honor: Ms. Irmtraut Hubatsch (Goethe-Institut) and Dr. Ludwig Linden (German Consulate). New York Skyport Marina\, East River and 23rd St.\, 6-10:30pm
URL:https://wagnersocietyny.org/event/rhine-journey-on-the-hudson-5/
CATEGORIES:Excursion
END:VEVENT
BEGIN:VEVENT
DTSTART;TZID=UTC:19991124T000000
DTEND;TZID=UTC:19991124T000000
DTSTAMP:20260422T191241
CREATED:20231104T214050Z
LAST-MODIFIED:20231104T214050Z
UID:10000610-943401600-943401600@wagnersocietyny.org
SUMMARY:Harlem Tour
DESCRIPTION:Wolfgang and Gudrun Wagner tour Harlem and attend the Harlem Gospel Choir. Lunch hosted by Society member Johann Mainz\, with a tour of Columbia University campus.
URL:https://wagnersocietyny.org/event/harlem-tour/
CATEGORIES:Concertgoing,Excursion
END:VEVENT
BEGIN:VEVENT
DTSTART;TZID=UTC:19991123T000000
DTEND;TZID=UTC:19991123T000000
DTSTAMP:20260422T191241
CREATED:20231104T214050Z
LAST-MODIFIED:20231104T214050Z
UID:10000609-943315200-943315200@wagnersocietyny.org
SUMMARY:Lower Manhattan Tour
DESCRIPTION:Wolfgang and Gudrun Wagner\, escorted by Society member Robert Schiffmann\, on a tour of Lower Manhattan.
URL:https://wagnersocietyny.org/event/lower-manhattan-tour/
CATEGORIES:Excursion
END:VEVENT
BEGIN:VEVENT
DTSTART;TZID=UTC:19991122T000000
DTEND;TZID=UTC:19991122T000000
DTSTAMP:20260422T191241
CREATED:20231104T214050Z
LAST-MODIFIED:20231104T214050Z
UID:10000608-943228800-943228800@wagnersocietyny.org
SUMMARY:Morgan Library Visit
DESCRIPTION:Wolfgang and Gudrun Wagner visit the Morgan Library to view its Wagner holdings. Special presentation hosted by Rigbie Turner\, Music Curator and Society member. Lunch at the Morgan.
URL:https://wagnersocietyny.org/event/morgan-library-visit/
CATEGORIES:Excursion
END:VEVENT
BEGIN:VEVENT
DTSTART;TZID=UTC:19970510T000000
DTEND;TZID=UTC:19970510T000000
DTSTAMP:20260422T191241
CREATED:20231105T012148Z
LAST-MODIFIED:20231105T012148Z
UID:10000676-863222400-863222400@wagnersocietyny.org
SUMMARY:Wagner’s Ring in Bayreuth: Some Early Documents
DESCRIPTION:Morgan Library Exhibit\, by invitation only. A viewing of the Morgan’s holdings of Wagner documents. Lecture by Rigbie Turner\, Music Curator. Morgan Library (29 East 36th Street); successive Saturdays\, 10:30 a.m.
URL:https://wagnersocietyny.org/event/wagners-ring-in-bayreuth-some-early-documents-2/
CATEGORIES:Excursion
END:VEVENT
BEGIN:VEVENT
DTSTART;TZID=UTC:19970509T180000
DTEND;TZID=UTC:19970509T223000
DTSTAMP:20260422T191241
CREATED:20231105T021934Z
LAST-MODIFIED:20231105T021934Z
UID:10000723-863200800-863217000@wagnersocietyny.org
SUMMARY:Rhine Journey on the Hudson
DESCRIPTION:Four-hour dinner cruise on the luxury yacht Mystique in honor of the Met Ring. Guests of honor: Jeffrey A. Hoffman (U.S. astronaut) and James King (heldentenor). South Street Seaport\, Pier 17; Friday\, 6:00-10:30 p.m.
URL:https://wagnersocietyny.org/event/rhine-journey-on-the-hudson-7/
CATEGORIES:Excursion
END:VEVENT
BEGIN:VEVENT
DTSTART;TZID=UTC:19970503T000000
DTEND;TZID=UTC:19970503T000000
DTSTAMP:20260422T191241
CREATED:20231105T012148Z
LAST-MODIFIED:20231105T012148Z
UID:10000675-862617600-862617600@wagnersocietyny.org
SUMMARY:Wagner’s Ring in Bayreuth: Some Early Documents
DESCRIPTION:Morgan Library Exhibit\, by invitation only. A viewing of the Morgan’s holdings of Wagner documents. Lecture by Rigbie Turner\, Music Curator. Morgan Library (29 East 36th Street); successive Saturdays\, 10:30 a.m.
URL:https://wagnersocietyny.org/event/wagners-ring-in-bayreuth-some-early-documents/
CATEGORIES:Excursion
END:VEVENT
BEGIN:VEVENT
DTSTART;TZID=UTC:19930430T000000
DTEND;TZID=UTC:19930430T000000
DTSTAMP:20260422T191241
CREATED:20231105T012458Z
LAST-MODIFIED:20231105T012458Z
UID:10000692-736128000-736128000@wagnersocietyny.org
SUMMARY:Rhine Journey on the Hudson
DESCRIPTION:Four-hour dinner cruise on World Yacht’s luxury flagship Princess of New York in honor of the Met Ring. Valerie Capers Trio; Guests of Honor: Dr. Walter Greinert\, Consul General of Austria\, and Mrs. Greinert. World Yacht Pier 81 (West 41st Street at the Hudson River); Friday\, 6:00-10:30 p.m.
URL:https://wagnersocietyny.org/event/rhine-journey-on-the-hudson-6/
CATEGORIES:Excursion
END:VEVENT
END:VCALENDAR