BEGIN:VCALENDAR
VERSION:2.0
PRODID:-//Wagner Society of New York - ECPv6.15.17//NONSGML v1.0//EN
CALSCALE:GREGORIAN
METHOD:PUBLISH
X-WR-CALNAME:Wagner Society of New York
X-ORIGINAL-URL:https://wagnersocietyny.org
X-WR-CALDESC:Events for Wagner Society of New York
REFRESH-INTERVAL;VALUE=DURATION:PT1H
X-Robots-Tag:noindex
X-PUBLISHED-TTL:PT1H
BEGIN:VTIMEZONE
TZID:Europe/Berlin
BEGIN:DAYLIGHT
TZOFFSETFROM:+0100
TZOFFSETTO:+0200
TZNAME:CEST
DTSTART:20230326T010000
END:DAYLIGHT
BEGIN:STANDARD
TZOFFSETFROM:+0200
TZOFFSETTO:+0100
TZNAME:CET
DTSTART:20231029T010000
END:STANDARD
BEGIN:DAYLIGHT
TZOFFSETFROM:+0100
TZOFFSETTO:+0200
TZNAME:CEST
DTSTART:20240331T010000
END:DAYLIGHT
BEGIN:STANDARD
TZOFFSETFROM:+0200
TZOFFSETTO:+0100
TZNAME:CET
DTSTART:20241027T010000
END:STANDARD
BEGIN:DAYLIGHT
TZOFFSETFROM:+0100
TZOFFSETTO:+0200
TZNAME:CEST
DTSTART:20250330T010000
END:DAYLIGHT
BEGIN:STANDARD
TZOFFSETFROM:+0200
TZOFFSETTO:+0100
TZNAME:CET
DTSTART:20251026T010000
END:STANDARD
END:VTIMEZONE
BEGIN:VEVENT
DTSTART;TZID=Europe/Berlin:20240821T220000
DTEND;TZID=Europe/Berlin:20240821T235900
DTSTAMP:20260424T084629
CREATED:20240609T233647Z
LAST-MODIFIED:20240816T144313Z
UID:10000739-1724277600-1724284740@wagnersocietyny.org
SUMMARY:Bayreuth Post-Walküre Dinner
DESCRIPTION:Post-Walküre Dinner at Bürgerreuth Restaurant \nWednesday\, 21 August\, approx. 10:00 p.m. \nan der Bürgerreuth 20\, 95445 Bayreuth – link to map \nInterested in an al fresco Italian dinner with other English-speaking Festival attendees after Die Walküre? We’ve reserved the outdoor space at Bürgerreuth\, a 5 minute walk from the Festspielhaus\, and will arrange for appetizers to be ready on our arrival. Join us for a drink\, and order à la carte as you like – pay your own way individually at the restaurant. \nThis event is reserved for a maximum 30 attendees. RSVP by Monday\, 19 August at 12:00 noon CEST. \nPlease select your appetizer in advance.\n(prices current at time of booking) \nAppetizers:\nProsciutto di San Daniele\nAir-dryed ham from San Daniele in Friuli with Cantaloupe\n17\,80 € \nFiletto al Carpaccio\nThin slices of raw beef with lemon\, olive-oil and freshly shaved slices of parmesan\n17\,50 € \nVitello Tonnato\nThin slices of roasted veal with tuna sauce\n15\,80 € \nMozzarella di Bufala alla Caprese\nOriginal Buffalo mozzarella from campania prepared with olive oil\, tomatoes\, basil and oregano\n16\,80 €
URL:https://wagnersocietyny.org/event/bayreuth-post-walkure-dinner/
LOCATION:Bürgerreuth Restaurant\, an der Bürgerreuth 20\, Bayreuth\, 95445\, Germany
CATEGORIES:Bayreuth,Reception
ATTACH;FMTTYPE=image/png:https://wagnersocietyny.org/wp-content/uploads/2024/06/Buergerreuth.png
END:VEVENT
BEGIN:VEVENT
DTSTART;TZID=Europe/Berlin:20240822T213000
DTEND;TZID=Europe/Berlin:20240823T010000
DTSTAMP:20260424T084629
CREATED:20240722T025534Z
LAST-MODIFIED:20240804T161301Z
UID:10000747-1724362200-1724374800@wagnersocietyny.org
SUMMARY:Bayreuth Post-Wahnfried Concert / Tannhäuser Gathering
DESCRIPTION:Join Bayreuth attendees for a late-night Biergarten gathering after the Haus Wahnfried Wagner/Strauss/Schönberg concert\, or hightail it to join us after Tannhäuser at the Festspielhaus. We’re meeting at La Lamperie\, a modern Biergarten in the heart of the old city\, offering fresh beer\, contemporary cocktails\, casual food (including Flammkuchen\, a.k.a. Bavarian pizza – it’s delicious) in a cool\, tree-covered backyard. We’ve got a large table booked\, and look forward to lively conversation among our Wagnerian friends old and new. \nIn case of bad weather\, we have a back-up table reserved indoors.
URL:https://wagnersocietyny.org/event/bayreuth-post-wahnfried-concert-tannhauser-gathering/
LOCATION:La Lamperie\, Friedrichstraße 13\, Bayreuth\, Bayern\, 95444\, Germany
CATEGORIES:Bayreuth,Reception
ATTACH;FMTTYPE=image/jpeg:https://wagnersocietyny.org/wp-content/uploads/2024/07/2019_Lamperie-Lamperium_web_35-1024x683-1.jpg
END:VEVENT
BEGIN:VEVENT
DTSTART;TZID=Europe/Berlin:20240825T120000
DTEND;TZID=Europe/Berlin:20240825T140000
DTSTAMP:20260424T084629
CREATED:20240811T214913Z
LAST-MODIFIED:20240811T214913Z
UID:10000751-1724587200-1724594400@wagnersocietyny.org
SUMMARY:Götterdämmerung / Farewell Luncheon
DESCRIPTION:Join Ring attendees for a final lunch on Sunday\, 25 August before the end of the Festival. We’ve got a large table reserved at Oskar: Das Wirtshaus am Markt in the heart of the old city and a reliable provider of traditional Bavarian fare. Enjoy a refreshing Weissbier or lemonade\, and wrestle with a Schweinshaxe while simultaneously wrestling with the totality of Der Ring des Nibelungen. We’re keeping this lunch strictly from noon till 2:00 p.m. in order to give everyone time to change before Götterdämmerung. Guests are of course responsible for their own checks.
URL:https://wagnersocietyny.org/event/gotterdammerung-farewell-luncheon/
LOCATION:Oskar: Das Wirtshaus am Markt\, Maximilianstraße 33\, Bayreuth\, Bayern\, 95444\, Germany
CATEGORIES:Bayreuth,Reception
ATTACH;FMTTYPE=image/jpeg:https://wagnersocietyny.org/wp-content/uploads/2024/08/oskar-wirtshaus-bayreuth-impressionen-21.jpg
END:VEVENT
END:VCALENDAR