BEGIN:VCALENDAR
VERSION:2.0
PRODID:-//Wagner Society of New York - ECPv6.15.17//NONSGML v1.0//EN
CALSCALE:GREGORIAN
METHOD:PUBLISH
X-ORIGINAL-URL:https://wagnersocietyny.org
X-WR-CALDESC:Events for Wagner Society of New York
REFRESH-INTERVAL;VALUE=DURATION:PT1H
X-Robots-Tag:noindex
X-PUBLISHED-TTL:PT1H
BEGIN:VTIMEZONE
TZID:America/Chicago
BEGIN:DAYLIGHT
TZOFFSETFROM:-0600
TZOFFSETTO:-0500
TZNAME:CDT
DTSTART:20240310T080000
END:DAYLIGHT
BEGIN:STANDARD
TZOFFSETFROM:-0500
TZOFFSETTO:-0600
TZNAME:CST
DTSTART:20241103T070000
END:STANDARD
BEGIN:DAYLIGHT
TZOFFSETFROM:-0600
TZOFFSETTO:-0500
TZNAME:CDT
DTSTART:20250309T080000
END:DAYLIGHT
BEGIN:STANDARD
TZOFFSETFROM:-0500
TZOFFSETTO:-0600
TZNAME:CST
DTSTART:20251102T070000
END:STANDARD
BEGIN:DAYLIGHT
TZOFFSETFROM:-0600
TZOFFSETTO:-0500
TZNAME:CDT
DTSTART:20260308T080000
END:DAYLIGHT
BEGIN:STANDARD
TZOFFSETFROM:-0500
TZOFFSETTO:-0600
TZNAME:CST
DTSTART:20261101T070000
END:STANDARD
END:VTIMEZONE
BEGIN:VTIMEZONE
TZID:America/New_York
BEGIN:DAYLIGHT
TZOFFSETFROM:-0500
TZOFFSETTO:-0400
TZNAME:EDT
DTSTART:20240310T070000
END:DAYLIGHT
BEGIN:STANDARD
TZOFFSETFROM:-0400
TZOFFSETTO:-0500
TZNAME:EST
DTSTART:20241103T060000
END:STANDARD
BEGIN:DAYLIGHT
TZOFFSETFROM:-0500
TZOFFSETTO:-0400
TZNAME:EDT
DTSTART:20250309T070000
END:DAYLIGHT
BEGIN:STANDARD
TZOFFSETFROM:-0400
TZOFFSETTO:-0500
TZNAME:EST
DTSTART:20251102T060000
END:STANDARD
BEGIN:DAYLIGHT
TZOFFSETFROM:-0500
TZOFFSETTO:-0400
TZNAME:EDT
DTSTART:20260308T070000
END:DAYLIGHT
BEGIN:STANDARD
TZOFFSETFROM:-0400
TZOFFSETTO:-0500
TZNAME:EST
DTSTART:20261101T060000
END:STANDARD
END:VTIMEZONE
BEGIN:VEVENT
DTSTART;TZID=America/Chicago:20250425T203000
DTEND;TZID=America/Chicago:20250425T210000
DTSTAMP:20260423T193742
CREATED:20241225T174400Z
LAST-MODIFIED:20250329T114126Z
UID:10000762-1745613000-1745614800@wagnersocietyny.org
SUMMARY:Houston Tannhäuser Intermission Reception
DESCRIPTION:Join fellow WSNY Members\, representatives of the Houston Grand Opera\, and other special guests for an intermission reception during the Friday\, April 25 premiere of Tannhäuser at the Houston Grand Opera. Note that the ‘Dresden’ version will be performed\, with minor cuts\, and two intermissions. WSNY Members are kindly requested to RSVP before Friday\, April 18\, 2025.
URL:https://wagnersocietyny.org/event/houston-tannhauser-intermission-reception/
LOCATION:Houston Grand Opera\, 501 Texas Ave.\, Houston\, TX\, 77002\, United States
CATEGORIES:Reception
ATTACH;FMTTYPE=image/jpeg:https://wagnersocietyny.org/wp-content/uploads/2024/12/1710271966-24-25-season-web-posters-tannhauser_1000x1548.jpg
END:VEVENT
BEGIN:VEVENT
DTSTART;TZID=America/New_York:20250427T110000
DTEND;TZID=America/New_York:20250427T123000
DTSTAMP:20260423T193742
CREATED:20241225T175603Z
LAST-MODIFIED:20250321T151911Z
UID:10000763-1745751600-1745757000@wagnersocietyny.org
SUMMARY:Atlanta Siegfried Post-Performance Brunch
DESCRIPTION:Join WSNY Members and Guests for a post-performance brunch at 9 Mile Station\, a rooftop restaurant at Ponce City Market in Atlanta’s Old Fourth Ward. The restaurant offers sandwiches\, salads\, brunch items\, entrées\, and a full bar – check out the menu here. Enjoy a casual meet-up to discuss Siegfried and take in the sweeping views of the Atlanta Skyline. Ponce City Market\, originally a Sears\, Roebuck & Co. warehouse and showroom\, has been converted to a multi-use dining\, shopping\, and entertainment space. \nThe $25 fee holds your seat and will be credited against your bill; it is forfeited in case of a no-show. Diners are responsible for their portion of the check and an automatic 20% gratuity; please bring cash. RSVP by Fri. 4/25 at noon. \nLocation: \nNine Mile Station is located on the rooftop of Ponce City Market in Atlanta’s historic Old Fourth Ward. \nFrom the courtyard: Look for an orange kiosk with a lighted “The Roof” sign at the East end entrance to the Food Hall by Anthropologie and Posman Books. \nFrom the BeltLine: Head through the corridor and down to the end of the wooden walkway. At the end\, take the outdoor elevator or stairs down to the courtyard. From there\, go left towards Anthropologie. Just outside Anthropologie look for the Kiosk with a lighted “The Roof” sign at the East end entrance to get to The Roof. \nThere you will find our helpful staff that can direct you to Nine Mile Station. \nParking: Ponce City Market offers both valet parking and self-parking. You will be able to pay for parking at one of the kiosks or on the ParkMobile app (zone 222). Please allow at least 30 minutes to park\, check-in\, and access The Roof.
URL:https://wagnersocietyny.org/event/atlanta-siegfried-post-performance-brunch/
LOCATION:9 Mile Station\, 675 Ponce de Leon Ave. NE\, Atlanta\, GA\, 30308\, United States
CATEGORIES:Reception
ATTACH;FMTTYPE=image/jpeg:https://wagnersocietyny.org/wp-content/uploads/2024/12/9-Mile-Station.jpg
END:VEVENT
END:VCALENDAR