BEGIN:VCALENDAR
VERSION:2.0
PRODID:-//Wagner Society of New York - ECPv6.15.17//NONSGML v1.0//EN
CALSCALE:GREGORIAN
METHOD:PUBLISH
X-ORIGINAL-URL:https://wagnersocietyny.org
X-WR-CALDESC:Events for Wagner Society of New York
REFRESH-INTERVAL;VALUE=DURATION:PT1H
X-Robots-Tag:noindex
X-PUBLISHED-TTL:PT1H
BEGIN:VTIMEZONE
TZID:America/New_York
BEGIN:DAYLIGHT
TZOFFSETFROM:-0500
TZOFFSETTO:-0400
TZNAME:EDT
DTSTART:20240310T070000
END:DAYLIGHT
BEGIN:STANDARD
TZOFFSETFROM:-0400
TZOFFSETTO:-0500
TZNAME:EST
DTSTART:20241103T060000
END:STANDARD
BEGIN:DAYLIGHT
TZOFFSETFROM:-0500
TZOFFSETTO:-0400
TZNAME:EDT
DTSTART:20250309T070000
END:DAYLIGHT
BEGIN:STANDARD
TZOFFSETFROM:-0400
TZOFFSETTO:-0500
TZNAME:EST
DTSTART:20251102T060000
END:STANDARD
BEGIN:DAYLIGHT
TZOFFSETFROM:-0500
TZOFFSETTO:-0400
TZNAME:EDT
DTSTART:20260308T070000
END:DAYLIGHT
BEGIN:STANDARD
TZOFFSETFROM:-0400
TZOFFSETTO:-0500
TZNAME:EST
DTSTART:20261101T060000
END:STANDARD
END:VTIMEZONE
BEGIN:VEVENT
DTSTART;TZID=America/New_York:20250722T180000
DTEND;TZID=America/New_York:20250722T200000
DTSTAMP:20260423T144951
CREATED:20250709T124345Z
LAST-MODIFIED:20250719T175115Z
UID:10000805-1753207200-1753214400@wagnersocietyny.org
SUMMARY:Pre-Bayreuth Happy Hour Meet-Up
DESCRIPTION:Bayreuth Festival Happy Hour – A Pre-Festival Meet-Up in NYC \nAre you going to the Bayreuth Festival this summer and want to meet other attendees? Have questions about your first visit to the Green Hill? Want to share some knowledge and memories about a previous visit? Just like talking about Wagner? Join us for a casual happy hour at Reichenbach Hall\, spacious and welcoming Bavarian-style beer hall in Midtown Manhattan. \nWhether you’ve attended for years or are just beginning your journey into the world of Wagner\, this is a wonderful opportunity to meet others who share your passion. Bring a friend\, bring your questions\, and raise a glass of Hefeweizen with us as we count down the days to curtain-up in Bayreuth! \nFind us: We’ll be at the high-top tables just inside to the right as you enter Reichenbach Hall.\nGuests are kindly responsible for their own food and drink tabs.
URL:https://wagnersocietyny.org/event/pre-bayreuth-happy-hour-meet-up/
LOCATION:Reichenbach Hall\, 5 West 37th Street\, New York\, NY\, 10018\, United States
CATEGORIES:Bayreuth,Reception
ATTACH;FMTTYPE=image/jpeg:https://wagnersocietyny.org/wp-content/uploads/2025/07/reichenbachhall-49sm2.jpg
END:VEVENT
END:VCALENDAR