BEGIN:VCALENDAR
VERSION:2.0
PRODID:-//Wagner Society of New York - ECPv6.15.17//NONSGML v1.0//EN
CALSCALE:GREGORIAN
METHOD:PUBLISH
X-ORIGINAL-URL:https://wagnersocietyny.org
X-WR-CALDESC:Events for Wagner Society of New York
REFRESH-INTERVAL;VALUE=DURATION:PT1H
X-Robots-Tag:noindex
X-PUBLISHED-TTL:PT1H
BEGIN:VTIMEZONE
TZID:Europe/Berlin
BEGIN:DAYLIGHT
TZOFFSETFROM:+0100
TZOFFSETTO:+0200
TZNAME:CEST
DTSTART:20240331T010000
END:DAYLIGHT
BEGIN:STANDARD
TZOFFSETFROM:+0200
TZOFFSETTO:+0100
TZNAME:CET
DTSTART:20241027T010000
END:STANDARD
BEGIN:DAYLIGHT
TZOFFSETFROM:+0100
TZOFFSETTO:+0200
TZNAME:CEST
DTSTART:20250330T010000
END:DAYLIGHT
BEGIN:STANDARD
TZOFFSETFROM:+0200
TZOFFSETTO:+0100
TZNAME:CET
DTSTART:20251026T010000
END:STANDARD
BEGIN:DAYLIGHT
TZOFFSETFROM:+0100
TZOFFSETTO:+0200
TZNAME:CEST
DTSTART:20260329T010000
END:DAYLIGHT
BEGIN:STANDARD
TZOFFSETFROM:+0200
TZOFFSETTO:+0100
TZNAME:CET
DTSTART:20261025T010000
END:STANDARD
END:VTIMEZONE
BEGIN:VEVENT
DTSTART;TZID=Europe/Berlin:20250816T220000
DTEND;TZID=Europe/Berlin:20250816T235900
DTSTAMP:20260423T125033
CREATED:20250605T122429Z
LAST-MODIFIED:20250728T143951Z
UID:10000775-1755381600-1755388740@wagnersocietyny.org
SUMMARY:Bayreuth Post-Walküre Dinner
DESCRIPTION:Post-Walküre Dinner at Bürgerreuth Restaurant \nSaturday\, 16 August\, approx. 10:00 p.m. \nan der Bürgerreuth 20\, 95445 Bayreuth – link to map \nInterested in an al fresco Italian dinner with other English-speaking Festival attendees after Die Walküre? We’ve reserved the outdoor space at Bürgerreuth\, a 5 minute walk from the Festspielhaus\, and will arrange for appetizers to be ready on our arrival. Enjoy a lively conversation with other devoted Wagner fans\, meet old friends and make new connections. Join us for a drink\, and order à la carte as you like – pay your own way individually at the restaurant. In case of cold or inclement weather\, we will have a space inside the restaurant. \nThis event is reserved for a limited number of attendees. RSVP by Thursday\, 14 August at 12:00 noon EST. If the event is full\, submit your name and e-mail address in the form below to be added to the waitlist and be notified by e-mail of any openings. \nPlease select your appetizer in advance.\n(prices current at time of booking) \nAppetizers:\nProsciutto di San Daniele\, 19\,80 €\nAir-dried ham from San Daniele in Friuli with Cantaloupe \nFiletto al Carpaccio\, 15\,80 €\nThin slices of raw beef with lemon\, olive-oil and freshly shaved slices of parmesan \nVitello Tonnato\, 15\,80 €\nThin slices of roasted veal with tuna sauce \nMozzarella di Bufala alla Caprese\, 16\,80 €\nOriginal Buffalo mozzarella from campania prepared with olive oil\, tomatoes\, basil and oregano \nProsciutto di San Daniele e Mozzarella di Bufala\, 19\,80 €\nAir-dried ham from San Daniele in Friuli and buffalo mozzarella from Campania
URL:https://wagnersocietyny.org/event/bayreuth-post-walkure-dinner-2/
LOCATION:Bürgerreuth Restaurant\, an der Bürgerreuth 20\, Bayreuth\, 95445\, Germany
CATEGORIES:Bayreuth,Reception
ATTACH;FMTTYPE=image/png:https://wagnersocietyny.org/wp-content/uploads/2025/06/Buergerreuth.png
END:VEVENT
BEGIN:VEVENT
DTSTART;TZID=Europe/Berlin:20250824T120000
DTEND;TZID=Europe/Berlin:20250824T140000
DTSTAMP:20260423T125033
CREATED:20250606T121355Z
LAST-MODIFIED:20250715T193153Z
UID:10000776-1756036800-1756044000@wagnersocietyny.org
SUMMARY:Parsifal Farewell Luncheon
DESCRIPTION:Join Bayreuth attendees for a final lunch on Sunday\, 24 August before the end of the Festival. We’ve got a large table reserved at Oskar: Das Wirtshaus am Markt in the heart of the old city and a reliable provider of traditional Bavarian fare. Enjoy a refreshing Weissbier or lemonade\, and wrestle with a Schweinshaxe while simultaneously wrestling with the ideas of Wagner’s Festival-for-the-Consecration-of-the-Stage. We’re keeping this lunch strictly from noon till 2:00 p.m. in order to give everyone time to change before the 4:00 performance. Guests are of course responsible for their own checks. \nRSVP by Wednesday\, 20 August at 12:00 noon CEST. If the event is full\, submit your name and e-mail address in the form below to be added to the waitlist and be notified by e-mail of any openings.
URL:https://wagnersocietyny.org/event/parsifal-farewell-luncheon/
LOCATION:Oskar: Das Wirtshaus am Markt\, Maximilianstraße 33\, Bayreuth\, Bayern\, 95444\, Germany
CATEGORIES:Bayreuth,Reception
ATTACH;FMTTYPE=image/jpeg:https://wagnersocietyny.org/wp-content/uploads/2025/06/oskar-wirtshaus-bayreuth-impressionen-21.jpg
END:VEVENT
END:VCALENDAR