BEGIN:VCALENDAR
VERSION:2.0
PRODID:-//Wagner Society of New York - ECPv6.15.17//NONSGML v1.0//EN
CALSCALE:GREGORIAN
METHOD:PUBLISH
X-WR-CALNAME:Wagner Society of New York
X-ORIGINAL-URL:https://wagnersocietyny.org
X-WR-CALDESC:Events for Wagner Society of New York
REFRESH-INTERVAL;VALUE=DURATION:PT1H
X-Robots-Tag:noindex
X-PUBLISHED-TTL:PT1H
BEGIN:VTIMEZONE
TZID:America/New_York
BEGIN:DAYLIGHT
TZOFFSETFROM:-0500
TZOFFSETTO:-0400
TZNAME:EDT
DTSTART:20250309T070000
END:DAYLIGHT
BEGIN:STANDARD
TZOFFSETFROM:-0400
TZOFFSETTO:-0500
TZNAME:EST
DTSTART:20251102T060000
END:STANDARD
BEGIN:DAYLIGHT
TZOFFSETFROM:-0500
TZOFFSETTO:-0400
TZNAME:EDT
DTSTART:20260308T070000
END:DAYLIGHT
BEGIN:STANDARD
TZOFFSETFROM:-0400
TZOFFSETTO:-0500
TZNAME:EST
DTSTART:20261101T060000
END:STANDARD
BEGIN:DAYLIGHT
TZOFFSETFROM:-0500
TZOFFSETTO:-0400
TZNAME:EDT
DTSTART:20270314T070000
END:DAYLIGHT
BEGIN:STANDARD
TZOFFSETFROM:-0400
TZOFFSETTO:-0500
TZNAME:EST
DTSTART:20271107T060000
END:STANDARD
END:VTIMEZONE
BEGIN:VEVENT
DTSTART;TZID=America/New_York:20260312T190000
DTEND;TZID=America/New_York:20260312T230000
DTSTAMP:20260423T004800
CREATED:20260120T191235Z
LAST-MODIFIED:20260331T190440Z
UID:10000822-1773342000-1773356400@wagnersocietyny.org
SUMMARY:Young Wagnerian Salon Social
DESCRIPTION:An evening social for young Wagnerians affiliated with the WSNY to come together and share insights into Wagner. The event will serve to foster social connection\, but also as a space for open performance and presentation\, where members can take advantage of the in-house piano\, bring their own instrument\, or share their current research/work into the Wagner. Hosted by Sanford Schwartz (Stipendiat ’25) and Caroline Couch (Stipendiat ’24); refreshments will be served.
URL:https://wagnersocietyny.org/event/young-wagnerian-salon-social/
LOCATION:The Residence of Sanford Schwartz\, New York\, NY\, United States
CATEGORIES:Reception
END:VEVENT
BEGIN:VEVENT
DTSTART;TZID=America/New_York:20260314T163000
DTEND;TZID=America/New_York:20260314T180000
DTSTAMP:20260423T004800
CREATED:20260112T044208Z
LAST-MODIFIED:20260121T200935Z
UID:10000821-1773505800-1773511200@wagnersocietyny.org
SUMMARY:Gathering at Reichenbach Hall: Post-Seminar Toasts
DESCRIPTION:Please join us after our Tristan und Isolde Seminar for an informal gathering at Reichenbach Hall\, where the conversation continues over cold beers\, traditional Bavarian food\, and good company! Come unwind with fellow opera lovers\, raise a glass\, share your thoughts\, and enjoy the lively beer-hall atmosphere just a short stroll from Scandinavia House. We warmly welcome our own members\, members from Wagner Societies around the world\, and all seminar attendees. We have reserved a space just inside the entrance of the restaurant\, to the right of the doors when you enter. Guests are responsible for their own food and drink purchases. \n 
URL:https://wagnersocietyny.org/event/reichenbach-post-seminar/
LOCATION:Reichenbach Hall\, 5 West 37th Street\, New York\, NY\, 10018\, United States
CATEGORIES:Reception
ATTACH;FMTTYPE=image/jpeg:https://wagnersocietyny.org/wp-content/uploads/2025/07/reichenbachhall-49sm2.jpg
END:VEVENT
END:VCALENDAR