BEGIN:VCALENDAR
VERSION:2.0
PRODID:-//Wagner Society of New York - ECPv6.15.17//NONSGML v1.0//EN
CALSCALE:GREGORIAN
METHOD:PUBLISH
X-WR-CALNAME:Wagner Society of New York
X-ORIGINAL-URL:https://wagnersocietyny.org
X-WR-CALDESC:Events for Wagner Society of New York
REFRESH-INTERVAL;VALUE=DURATION:PT1H
X-Robots-Tag:noindex
X-PUBLISHED-TTL:PT1H
BEGIN:VTIMEZONE
TZID:America/New_York
BEGIN:DAYLIGHT
TZOFFSETFROM:-0500
TZOFFSETTO:-0400
TZNAME:EDT
DTSTART:20230312T070000
END:DAYLIGHT
BEGIN:STANDARD
TZOFFSETFROM:-0400
TZOFFSETTO:-0500
TZNAME:EST
DTSTART:20231105T060000
END:STANDARD
BEGIN:DAYLIGHT
TZOFFSETFROM:-0500
TZOFFSETTO:-0400
TZNAME:EDT
DTSTART:20240310T070000
END:DAYLIGHT
BEGIN:STANDARD
TZOFFSETFROM:-0400
TZOFFSETTO:-0500
TZNAME:EST
DTSTART:20241103T060000
END:STANDARD
BEGIN:DAYLIGHT
TZOFFSETFROM:-0500
TZOFFSETTO:-0400
TZNAME:EDT
DTSTART:20250309T070000
END:DAYLIGHT
BEGIN:STANDARD
TZOFFSETFROM:-0400
TZOFFSETTO:-0500
TZNAME:EST
DTSTART:20251102T060000
END:STANDARD
END:VTIMEZONE
BEGIN:VTIMEZONE
TZID:UTC
BEGIN:STANDARD
TZOFFSETFROM:+0000
TZOFFSETTO:+0000
TZNAME:UTC
DTSTART:20040101T000000
END:STANDARD
END:VTIMEZONE
BEGIN:VEVENT
DTSTART;TZID=America/New_York:20240427T164500
DTEND;TZID=America/New_York:20240427T183000
DTSTAMP:20260423T003710
CREATED:20240308T164107Z
LAST-MODIFIED:20240308T164903Z
UID:10000733-1714236300-1714242600@wagnersocietyny.org
SUMMARY:Atlanta Die Walküre Hospitality
DESCRIPTION:WSNY Members may join board members and donors of The Atlanta Opera for pre-performance hors d’œuvres and tapas\, then cocktails and desserts at intermission\, and a post-performance champagne toast for the April 27 performance of Die Walküre. Space is limited and pre-registration of guests’ names is required for entry. RSVP by 12:00 noon ET on Friday\, 12 April. \n4:45pm Doors open/Cocktails on the Mezzanine\n5:00pm Appetizers and Tapas selections\n6:30pm Curtain\n7:40pm Desserts on the Mezzanine\n8:10pm Act 2 begins\n11:05pm Champagne toast on the Mezzanine
URL:https://wagnersocietyny.org/event/atlanta-die-walkure-hospitality/
LOCATION:Cobb Energy Performing Arts Center\, 2800 Cobb Galleria Pkwy\, Atlanta\, GA\, 30339\, United States
CATEGORIES:Reception
END:VEVENT
BEGIN:VEVENT
DTSTART;TZID=America/New_York:20240314T180000
DTEND;TZID=America/New_York:20240314T200000
DTSTAMP:20260423T003710
CREATED:20240302T164739Z
LAST-MODIFIED:20240318T154146Z
UID:10000732-1710439200-1710446400@wagnersocietyny.org
SUMMARY:Special Contributors Reception with Oksana Lyniv
DESCRIPTION:A private reception in honor of Maestra Oksana Lyniv. \nOksana Lyniv was the first woman to conduct at the Bayreuth Festival when she led Der fliegende Holländer in 2021\, a work she will conduct again at this summer’s Festival. She was in New York to conduct Puccini’s Turandot at the Metropolitan Opera Feb. 28 – Apr. 19. \nThis invitation was exclusive to our Special Contributors as well as our valued board and committee members.
URL:https://wagnersocietyny.org/event/reception-with-oksana-lyniv/
LOCATION:NY
CATEGORIES:Artist Talk,Reception
END:VEVENT
BEGIN:VEVENT
DTSTART;TZID=UTC:20191116T000000
DTEND;TZID=UTC:20191116T000000
DTSTAMP:20260423T003710
CREATED:20231005T213610Z
LAST-MODIFIED:20231005T213610Z
UID:10000373-1573862400-1573862400@wagnersocietyny.org
SUMMARY:Honoring Stephen Gould
DESCRIPTION:Reception in honor of Stephen Gould\, heldentenor (appearing with NY Philharmonic)\, with interview.
URL:https://wagnersocietyny.org/event/honoring-stephen-gould/
LOCATION:NY
CATEGORIES:Reception
ATTACH;FMTTYPE=image/jpeg:https://wagnersocietyny.org/wp-content/uploads/2023/10/Gould-publicity-shot-scaled-e1696512091257.jpg
ORGANIZER;CN="Wagner Society of New York":MAILTO:info@wagnersocietyny.org
END:VEVENT
BEGIN:VEVENT
DTSTART;VALUE=DATE:20190506
DTEND;VALUE=DATE:20190507
DTSTAMP:20260423T003710
CREATED:20231005T173414Z
LAST-MODIFIED:20231005T173414Z
UID:10000361-1557100800-1557187199@wagnersocietyny.org
SUMMARY:Das Rheingold Pre-Performance Reception
DESCRIPTION:  \n\n\n\n\n\n\n2019 Ring Cycle Reception\n\n\n\n\n\n\n\n2019 Pre-Performance Ring Cycle Reception
URL:https://wagnersocietyny.org/event/das-rheingold-pre-performance-reception/
LOCATION:NY
CATEGORIES:Reception
END:VEVENT
BEGIN:VEVENT
DTSTART;TZID=UTC:20190414T000000
DTEND;TZID=UTC:20190414T000000
DTSTAMP:20260423T003710
CREATED:20231006T174214Z
LAST-MODIFIED:20231006T174214Z
UID:10000383-1555200000-1555200000@wagnersocietyny.org
SUMMARY:Michael Volle\, baritone
DESCRIPTION:Reception in honor of Michael Volle\, baritone: an appreciation to Special Contributor Members.
URL:https://wagnersocietyny.org/event/michael-volle-baritone/
LOCATION:NY
CATEGORIES:Reception
END:VEVENT
BEGIN:VEVENT
DTSTART;TZID=UTC:20190114T000000
DTEND;TZID=UTC:20190114T000000
DTSTAMP:20260423T003710
CREATED:20231006T174212Z
LAST-MODIFIED:20231006T174212Z
UID:10000379-1547424000-1547424000@wagnersocietyny.org
SUMMARY:Piotr Beczala\, tenor
DESCRIPTION:Interview and reception in honor of Piotr Beczala\, tenor.
URL:https://wagnersocietyny.org/event/piotr-beczala-tenor/
LOCATION:NY
CATEGORIES:Artist Talk,Reception
ATTACH;FMTTYPE=image/jpeg:https://wagnersocietyny.org/wp-content/uploads/2023/10/Piotr-Beczala_Feb-2019-Interview.jpg
END:VEVENT
BEGIN:VEVENT
DTSTART;TZID=UTC:20180520T000000
DTEND;TZID=UTC:20180520T000000
DTSTAMP:20260423T003710
CREATED:20231006T174238Z
LAST-MODIFIED:20231006T174238Z
UID:10000396-1526774400-1526774400@wagnersocietyny.org
SUMMARY:Mignon Dunn reception
DESCRIPTION:Special Contributors Reception: presentation of Anton Seidl Award to Mignon Dunn\, mezzo-soprano.
URL:https://wagnersocietyny.org/event/mignon-dunn-reception/
LOCATION:NY
CATEGORIES:Award,Reception
END:VEVENT
BEGIN:VEVENT
DTSTART;TZID=UTC:20170326T000000
DTEND;TZID=UTC:20170326T000000
DTSTAMP:20260423T003710
CREATED:20231006T174310Z
LAST-MODIFIED:20231006T174310Z
UID:10000407-1490486400-1490486400@wagnersocietyny.org
SUMMARY:Günther Groissböck Reception
DESCRIPTION:Special Contributors Reception: Günther Groissböck\, honoree.
URL:https://wagnersocietyny.org/event/gunther-groissbock-reception/
LOCATION:NY
CATEGORIES:Artist Talk,Reception
END:VEVENT
BEGIN:VEVENT
DTSTART;TZID=UTC:20150419T000000
DTEND;TZID=UTC:20150419T000000
DTSTAMP:20260423T003710
CREATED:20231104T184323Z
LAST-MODIFIED:20231104T184323Z
UID:10000432-1429401600-1429401600@wagnersocietyny.org
SUMMARY:Special Contributors Reception
DESCRIPTION:Reception in honor of Eva-Maria Westbroek\, soprano (for special contributors).
URL:https://wagnersocietyny.org/event/special-contributors-reception/
LOCATION:NY
CATEGORIES:Reception
END:VEVENT
BEGIN:VEVENT
DTSTART;TZID=UTC:20140219T000000
DTEND;TZID=UTC:20140219T000000
DTSTAMP:20260423T003710
CREATED:20231104T184411Z
LAST-MODIFIED:20231104T184411Z
UID:10000443-1392768000-1392768000@wagnersocietyny.org
SUMMARY:Budapest Ring Reception
DESCRIPTION:Information program on Budapest Ring with reception\, hosted by Hungarian Consulate General.
URL:https://wagnersocietyny.org/event/budapest-ring-reception/
LOCATION:NY
CATEGORIES:Reception
END:VEVENT
BEGIN:VEVENT
DTSTART;TZID=UTC:20140207T000000
DTEND;TZID=UTC:20140207T000000
DTSTAMP:20260423T003710
CREATED:20231104T184355Z
LAST-MODIFIED:20231104T184355Z
UID:10000442-1391731200-1391731200@wagnersocietyny.org
SUMMARY:Special Contributor Reception
DESCRIPTION:Reception in honor of Maestro Adam Fischer\, for special contributor members.
URL:https://wagnersocietyny.org/event/special-contributor-reception/
LOCATION:NY
CATEGORIES:Reception
END:VEVENT
BEGIN:VEVENT
DTSTART;TZID=UTC:20140110T000000
DTEND;TZID=UTC:20140110T000000
DTSTAMP:20260423T003710
CREATED:20231104T184355Z
LAST-MODIFIED:20231104T184355Z
UID:10000441-1389312000-1389312000@wagnersocietyny.org
SUMMARY:Talk with Stephanie Blythe
DESCRIPTION:Stephanie Blythe\, mezzo-soprano\, Fricka in Met Opera and Seattle Opera Ring Cycles: Interview and reception. Ken Benson\, host.
URL:https://wagnersocietyny.org/event/talk-with-stephanie-blythe/
LOCATION:NY
CATEGORIES:Artist Talk,Reception
END:VEVENT
BEGIN:VEVENT
DTSTART;TZID=UTC:20111207T000000
DTEND;TZID=UTC:20111207T000000
DTSTAMP:20260423T003710
CREATED:20231104T195102Z
LAST-MODIFIED:20231104T195102Z
UID:10000450-1323216000-1323216000@wagnersocietyny.org
SUMMARY:Jonas Kaufmann Reception
DESCRIPTION:Interview and reception with Jonas Kaufmann (tenor) in his honor. With visuals.
URL:https://wagnersocietyny.org/event/jonas-kaufmann-reception/
LOCATION:NY
CATEGORIES:Artist Talk,Reception
END:VEVENT
BEGIN:VEVENT
DTSTART;TZID=UTC:20110408T000000
DTEND;TZID=UTC:20110408T000000
DTSTAMP:20260423T003710
CREATED:20231104T195123Z
LAST-MODIFIED:20231104T195123Z
UID:10000469-1302220800-1302220800@wagnersocietyny.org
SUMMARY:Waltraud Meier Reception
DESCRIPTION:Waltraud Meier (Bayreuth Festival and Met Opera Marie in Wozzeck): interview and reception in her honor. With visuals.
URL:https://wagnersocietyny.org/event/waltraud-meier-reception/
LOCATION:NY
CATEGORIES:Artist Talk,Reception
END:VEVENT
BEGIN:VEVENT
DTSTART;TZID=UTC:20110327T000000
DTEND;TZID=UTC:20110327T000000
DTSTAMP:20260423T003710
CREATED:20231104T195123Z
LAST-MODIFIED:20231104T195123Z
UID:10000468-1301184000-1301184000@wagnersocietyny.org
SUMMARY:Reception for Stuart Skelton
DESCRIPTION:Reception for Stuart Skelton (Drum Major in Met production of Wozzeck\, Robert Lauch Memorial Fund awardee). A Meet the Artist event for special contributors.
URL:https://wagnersocietyny.org/event/reception-for-stuart-skelton/
LOCATION:NY
CATEGORIES:Reception
END:VEVENT
BEGIN:VEVENT
DTSTART;TZID=UTC:20100521T000000
DTEND;TZID=UTC:20100521T000000
DTSTAMP:20260423T003710
CREATED:20231104T195154Z
LAST-MODIFIED:20231104T195154Z
UID:10000483-1274400000-1274400000@wagnersocietyny.org
SUMMARY:Wagner Birthday Party
DESCRIPTION:Wagner Birthday Party\, with excerpts from A Tribute to Plácido Domingo.
URL:https://wagnersocietyny.org/event/wagner-birthday-party/
LOCATION:NY
CATEGORIES:Reception
END:VEVENT
BEGIN:VEVENT
DTSTART;TZID=UTC:20091113T000000
DTEND;TZID=UTC:20091113T000000
DTSTAMP:20260423T003710
CREATED:20231104T195138Z
LAST-MODIFIED:20231104T195138Z
UID:10000476-1258070400-1258070400@wagnersocietyny.org
SUMMARY:Sir Willard White Reception
DESCRIPTION:Reception in honor of Sir Willard White\, for special contributors.
URL:https://wagnersocietyny.org/event/sir-willard-white-reception/
LOCATION:NY
CATEGORIES:Reception
END:VEVENT
BEGIN:VEVENT
DTSTART;TZID=UTC:20090504T000000
DTEND;TZID=UTC:20090504T000000
DTSTAMP:20260423T003710
CREATED:20231104T195226Z
LAST-MODIFIED:20231104T195226Z
UID:10000497-1241395200-1241395200@wagnersocietyny.org
SUMMARY:Das Rheingold dinner
DESCRIPTION:Das Rheingold dinner
URL:https://wagnersocietyny.org/event/das-rheingold-dinner-2/
LOCATION:NY
CATEGORIES:Reception
END:VEVENT
BEGIN:VEVENT
DTSTART;TZID=UTC:20090427T000000
DTEND;TZID=UTC:20090427T000000
DTSTAMP:20260423T003710
CREATED:20231104T195226Z
LAST-MODIFIED:20231104T195226Z
UID:10000496-1240790400-1240790400@wagnersocietyny.org
SUMMARY:Das Rheingold dinner
DESCRIPTION:Das Rheingold dinner
URL:https://wagnersocietyny.org/event/das-rheingold-dinner/
LOCATION:NY
CATEGORIES:Reception
END:VEVENT
BEGIN:VEVENT
DTSTART;TZID=UTC:20080326T000000
DTEND;TZID=UTC:20080326T000000
DTSTAMP:20260423T003710
CREATED:20231104T195313Z
LAST-MODIFIED:20231104T195313Z
UID:10000510-1206489600-1206489600@wagnersocietyny.org
SUMMARY:Tenor Gary Lehman Reception
DESCRIPTION:Reception for Gary Lehman (tenor)\, WSNY grantee who sang two performances of the Met  Tristan\, and his wife Susan Foster (soprano) (for special contributor members). 
URL:https://wagnersocietyny.org/event/tenor-gary-lehman-reception/
LOCATION:NY
CATEGORIES:Reception
END:VEVENT
BEGIN:VEVENT
DTSTART;TZID=UTC:20080105T000000
DTEND;TZID=UTC:20080105T000000
DTSTAMP:20260423T003710
CREATED:20231104T195257Z
LAST-MODIFIED:20231104T195257Z
UID:10000507-1199491200-1199491200@wagnersocietyny.org
SUMMARY:Adrienne Pieczonka Reception
DESCRIPTION:Reception for Adrienne Pieczonka\, Bayreuth and Met soprano (for special contributor members).
URL:https://wagnersocietyny.org/event/adrienne-pieczonka-reception/
LOCATION:NY
CATEGORIES:Reception
END:VEVENT
BEGIN:VEVENT
DTSTART;TZID=UTC:20070716T000000
DTEND;TZID=UTC:20070716T000000
DTSTAMP:20260423T003710
CREATED:20231104T195418Z
LAST-MODIFIED:20231104T195418Z
UID:10000529-1184544000-1184544000@wagnersocietyny.org
SUMMARY:Das Rheingold dinner. 
DESCRIPTION:Das Rheingold dinner.
URL:https://wagnersocietyny.org/event/das-rheingold-dinner-4/
LOCATION:NY
CATEGORIES:Reception
END:VEVENT
BEGIN:VEVENT
DTSTART;TZID=UTC:20070716T000000
DTEND;TZID=UTC:20070716T000000
DTSTAMP:20260423T003710
CREATED:20231104T195402Z
LAST-MODIFIED:20231104T195402Z
UID:10000527-1184544000-1184544000@wagnersocietyny.org
SUMMARY:Kirov Ring Reception
DESCRIPTION:Hospitality Suites: reception and boutique of Wagner-related books and Wagneriana. 
URL:https://wagnersocietyny.org/event/kirov-ring-reception-2/
LOCATION:NY
CATEGORIES:Reception
END:VEVENT
BEGIN:VEVENT
DTSTART;TZID=UTC:20070713T000000
DTEND;TZID=UTC:20070713T000000
DTSTAMP:20260423T003710
CREATED:20231104T195418Z
LAST-MODIFIED:20231104T195418Z
UID:10000528-1184284800-1184284800@wagnersocietyny.org
SUMMARY:Das Rheingold dinner. 
DESCRIPTION:Das Rheingold dinner.
URL:https://wagnersocietyny.org/event/das-rheingold-dinner-3/
LOCATION:NY
CATEGORIES:Reception
END:VEVENT
BEGIN:VEVENT
DTSTART;TZID=UTC:20070713T000000
DTEND;TZID=UTC:20070713T000000
DTSTAMP:20260423T003710
CREATED:20231104T195402Z
LAST-MODIFIED:20231104T195402Z
UID:10000526-1184284800-1184284800@wagnersocietyny.org
SUMMARY:Kirov Ring Reception
DESCRIPTION:Hospitality Suites: reception and boutique of Wagner-related books and Wagneriana. 
URL:https://wagnersocietyny.org/event/kirov-ring-reception/
LOCATION:NY
CATEGORIES:Reception
END:VEVENT
BEGIN:VEVENT
DTSTART;TZID=UTC:20070520T000000
DTEND;TZID=UTC:20070520T000000
DTSTAMP:20260423T003710
CREATED:20231104T195402Z
LAST-MODIFIED:20231104T195402Z
UID:10000525-1179619200-1179619200@wagnersocietyny.org
SUMMARY:Wagner’s 184th Birthday
DESCRIPTION:Memorial tributes to Astrid Varnay and Thomas Stewart. Appreciations\, videos\, and audio examples. Presenters: Tim Page and Geoffrey Riggs. Also\, a celebration of Wagner’s 184 th birthday and WSNY’s 30th anniversary.
URL:https://wagnersocietyny.org/event/wagners-184th-birthday/
LOCATION:NY
CATEGORIES:Lecture,Reception
END:VEVENT
BEGIN:VEVENT
DTSTART;TZID=UTC:20061028T000000
DTEND;TZID=UTC:20061028T000000
DTSTAMP:20260423T003710
CREATED:20231104T195330Z
LAST-MODIFIED:20231104T195330Z
UID:10000517-1161993600-1161993600@wagnersocietyny.org
SUMMARY:Tenor Heinz Zednik Reception
DESCRIPTION:Reception for Heinz Zednik\, Bayreuth tenor (for special contributor members). 
URL:https://wagnersocietyny.org/event/tenor-heinz-zednik-reception/
LOCATION:NY
CATEGORIES:Reception
END:VEVENT
BEGIN:VEVENT
DTSTART;TZID=UTC:20060521T000000
DTEND;TZID=UTC:20060521T000000
DTSTAMP:20260423T003710
CREATED:20231104T195451Z
LAST-MODIFIED:20231104T195451Z
UID:10000547-1148169600-1148169600@wagnersocietyny.org
SUMMARY:James King Memorial
DESCRIPTION:
URL:https://wagnersocietyny.org/event/james-king-memorial/
LOCATION:NY
CATEGORIES:Reception
END:VEVENT
BEGIN:VEVENT
DTSTART;TZID=UTC:20060309T000000
DTEND;TZID=UTC:20060309T000000
DTSTAMP:20260423T003710
CREATED:20231104T195450Z
LAST-MODIFIED:20231104T195450Z
UID:10000544-1141862400-1141862400@wagnersocietyny.org
SUMMARY:Vienna Lohengrin DVD Release
DESCRIPTION:Special contributors’ event. Lohengrin DVD (Vienna State Opera)– excerpts\, commentary\, performances by grantees Andrew Gangestad and Gary Lehman\, and champagne reception.
URL:https://wagnersocietyny.org/event/vienna-lohengrin-dvd-release/
LOCATION:NY
CATEGORIES:Reception,Recital
END:VEVENT
BEGIN:VEVENT
DTSTART;TZID=UTC:20050522T000000
DTEND;TZID=UTC:20050522T000000
DTSTAMP:20260423T003710
CREATED:20231104T195507Z
LAST-MODIFIED:20231104T195507Z
UID:10000559-1116720000-1116720000@wagnersocietyny.org
SUMMARY:Wagner's Birthday
DESCRIPTION:Wagner Birthday Celebration on his 192 nd birthday.  
URL:https://wagnersocietyny.org/event/wagners-birthday/
LOCATION:NY
CATEGORIES:Reception
END:VEVENT
END:VCALENDAR