BEGIN:VCALENDAR
VERSION:2.0
PRODID:-//Wagner Society of New York - ECPv6.15.17//NONSGML v1.0//EN
CALSCALE:GREGORIAN
METHOD:PUBLISH
X-ORIGINAL-URL:https://wagnersocietyny.org
X-WR-CALDESC:Events for Wagner Society of New York
REFRESH-INTERVAL;VALUE=DURATION:PT1H
X-Robots-Tag:noindex
X-PUBLISHED-TTL:PT1H
BEGIN:VTIMEZONE
TZID:UTC
BEGIN:STANDARD
TZOFFSETFROM:+0000
TZOFFSETTO:+0000
TZNAME:UTC
DTSTART:19930101T000000
END:STANDARD
END:VTIMEZONE
BEGIN:VEVENT
DTSTART;TZID=UTC:20020614T000000
DTEND;TZID=UTC:20020614T000000
DTSTAMP:20260423T054718
CREATED:20231104T214018Z
LAST-MODIFIED:20231104T214018Z
UID:10000589-1024012800-1024012800@wagnersocietyny.org
SUMMARY:WSNY 25th Anniversary Gala
DESCRIPTION:Dinner and Entertainment: Reception\, gourmet dinner\, Overture to Tannhäuser danced by Jeanne Bresciani\, highlights from the Society’s first quarter-century\, honoring of charter members\, photo displays\, and silent auction. The Williams Club\, 24 E39th St.\, 7:00 p.m.
URL:https://wagnersocietyny.org/event/wsny-25th-anniversary-gala/
CATEGORIES:Reception,Recital
END:VEVENT
BEGIN:VEVENT
DTSTART;TZID=UTC:20020514T000000
DTEND;TZID=UTC:20020514T000000
DTSTAMP:20260423T054718
CREATED:20231104T214018Z
LAST-MODIFIED:20231104T214018Z
UID:10000588-1021334400-1021334400@wagnersocietyny.org
SUMMARY:Wagner’s Birthday Gala
DESCRIPTION:25th WSNY Anniversary Gala and Reception. Principals: Five singers (all Society grant awardees): Adrienne Dugger\, Amanda Mace\, Gigi Mitchell-Velasco\, Clayton Brainerd\, and Mark Nicolson; with Linda Hall (pianist); and Jeffrey Swann\, pianist\, performing Wagner transcriptions. Racquet Club 370 Park Ave.\, 7:00 p.m.
URL:https://wagnersocietyny.org/event/wagners-birthday-gala/
CATEGORIES:Reception,Recital
END:VEVENT
BEGIN:VEVENT
DTSTART;TZID=UTC:20020107T000000
DTEND;TZID=UTC:20020107T000000
DTSTAMP:20260423T054718
CREATED:20231104T214016Z
LAST-MODIFIED:20231104T214016Z
UID:10000583-1010361600-1010361600@wagnersocietyny.org
SUMMARY:Anton Seidl Award
DESCRIPTION:The second presentation of the Anton Seidl Award. As the opening program of its 25th Anniversary Year\, the Society presented its prestigious award jointly to Birgit Nilsson\, soprano (in absentia) and to Jon Vickers\, heldentenor (in person). Honorary Co-Chairmen: Mr. Peter Schori\, Ambassador and Permanent Representative of Sweden to the UN\, and Mr. Michael B. Phillips\, Consul General\, Canadian Consulate General\, New York. Program included photo displays\, audio highlights presented by Joe Pearce\, video excerpts of performances\, video clip of Birgit Nilsson’s appearance at James Levine’s 25th Anniversary gala\, and a live interview with Mr. Vickers; Lew Grenville\, interviewer. Scrolls were presented to Mr. Vickers and to Mignon Dunn (Met Opera mezzo-soprano and colleague of the awardees)\, accepting on behalf of Mme. Nilsson. New York Genealogical Society\, 7:30 p.m.
URL:https://wagnersocietyny.org/event/anton-seidl-award/
CATEGORIES:Award,Reception
END:VEVENT
BEGIN:VEVENT
DTSTART;TZID=UTC:20011002T000000
DTEND;TZID=UTC:20011002T000000
DTSTAMP:20260423T054718
CREATED:20231104T214011Z
LAST-MODIFIED:20231104T214011Z
UID:10000580-1001980800-1001980800@wagnersocietyny.org
SUMMARY:Talk with Katarina Dalayman
DESCRIPTION:Reception and Interview with Met mezzo-soprano Katarina Dalayman; Lew Grenville\, interviewer. CAMI Hall\, 7:30 p.m.
URL:https://wagnersocietyny.org/event/talk-with-katarina-dalayman/
CATEGORIES:Artist Talk,Reception
END:VEVENT
BEGIN:VEVENT
DTSTART;TZID=UTC:20010419T000000
DTEND;TZID=UTC:20010419T000000
DTSTAMP:20260423T054718
CREATED:20231104T214034Z
LAST-MODIFIED:20231104T214034Z
UID:10000600-987638400-987638400@wagnersocietyny.org
SUMMARY:Honoring Blanche Thebom
DESCRIPTION:Reception in honor of Met diva Blanche Thebom. For special contributor members. At the Residence of Kit Gill\, 5:30 p.m.
URL:https://wagnersocietyny.org/event/honoring-blanche-thebom/
CATEGORIES:Reception
END:VEVENT
BEGIN:VEVENT
DTSTART;TZID=UTC:20010412T000000
DTEND;TZID=UTC:20010412T000000
DTSTAMP:20260423T054718
CREATED:20231104T214034Z
LAST-MODIFIED:20231104T214034Z
UID:10000599-987033600-987033600@wagnersocietyny.org
SUMMARY:Reception for the Richard-Wagner-Verband Bayreuth
DESCRIPTION:Fortysome members of the Bayreuth Society\, in New York to attend the Met Parsifal\, met with WSNY Board members at the Residence of Kit Gill\, 5:30 p.m.
URL:https://wagnersocietyny.org/event/reception-for-the-richard-wagner-verband-bayreuth/
CATEGORIES:Reception
END:VEVENT
BEGIN:VEVENT
DTSTART;TZID=UTC:20000504T000000
DTEND;TZID=UTC:20000504T000000
DTSTAMP:20260423T054718
CREATED:20231104T214106Z
LAST-MODIFIED:20231104T214106Z
UID:10000622-957398400-957398400@wagnersocietyny.org
SUMMARY:Ring Reception
DESCRIPTION:Hospitality Suite: All Met Ring attendees were invited to drop by\, view the Ring Disc demonstration\, and become acquainted with the Society. O’Neal’s Restaurant\, 49 W64th St.
URL:https://wagnersocietyny.org/event/ring-reception-4/
CATEGORIES:Reception
END:VEVENT
BEGIN:VEVENT
DTSTART;TZID=UTC:20000501T000000
DTEND;TZID=UTC:20000501T000000
DTSTAMP:20260423T054718
CREATED:20231104T214120Z
LAST-MODIFIED:20231104T214120Z
UID:10000624-957139200-957139200@wagnersocietyny.org
SUMMARY:Das Rheingold Dinner
DESCRIPTION:Society ticketholders for Das Rheingold in the 2nd and 3rd cycles were invited to dine at O’Neal’s before the performance. O’Neal’s Restaurant\, 49 W64th St.
URL:https://wagnersocietyny.org/event/das-rheingold-dinner-6/
CATEGORIES:Reception
END:VEVENT
BEGIN:VEVENT
DTSTART;TZID=UTC:20000501T000000
DTEND;TZID=UTC:20000501T000000
DTSTAMP:20260423T054718
CREATED:20231104T214106Z
LAST-MODIFIED:20231104T214106Z
UID:10000621-957139200-957139200@wagnersocietyny.org
SUMMARY:Ring Reception
DESCRIPTION:Hospitality Suite: All Met Ring attendees were invited to drop by\, view the Ring Disc demonstration\, and become acquainted with the Society. O’Neal’s Restaurant\, 49 W64th St.
URL:https://wagnersocietyny.org/event/ring-reception-3/
CATEGORIES:Reception
END:VEVENT
BEGIN:VEVENT
DTSTART;TZID=UTC:20000427T000000
DTEND;TZID=UTC:20000427T000000
DTSTAMP:20260423T054718
CREATED:20231104T214106Z
LAST-MODIFIED:20231104T214106Z
UID:10000620-956793600-956793600@wagnersocietyny.org
SUMMARY:Ring Reception
DESCRIPTION:Hospitality Suite: All Met Ring attendees were invited to drop by\, view the Ring Disc demonstration\, and become acquainted with the Society. O’Neal’s Restaurant\, 49 W64th St.
URL:https://wagnersocietyny.org/event/ring-reception-2/
CATEGORIES:Reception
END:VEVENT
BEGIN:VEVENT
DTSTART;TZID=UTC:20000424T000000
DTEND;TZID=UTC:20000424T000000
DTSTAMP:20260423T054718
CREATED:20231104T214120Z
LAST-MODIFIED:20231104T214120Z
UID:10000623-956534400-956534400@wagnersocietyny.org
SUMMARY:Das Rheingold Dinner
DESCRIPTION:Society ticketholders for Das Rheingold in the 2nd and 3rd cycles were invited to dine at O’Neal’s before the performance. O’Neal’s Restaurant\, 49 W64th St.
URL:https://wagnersocietyny.org/event/das-rheingold-dinner-5/
CATEGORIES:Reception
END:VEVENT
BEGIN:VEVENT
DTSTART;TZID=UTC:20000424T000000
DTEND;TZID=UTC:20000424T000000
DTSTAMP:20260423T054718
CREATED:20231104T214106Z
LAST-MODIFIED:20231104T214106Z
UID:10000619-956534400-956534400@wagnersocietyny.org
SUMMARY:Ring Reception
DESCRIPTION:Hospitality Suite: All Met Ring attendees were invited to drop by\, view the Ring Disc demonstration\, and become acquainted with the Society. O’Neal’s Restaurant\, 49 W64th St.
URL:https://wagnersocietyny.org/event/ring-reception/
CATEGORIES:Reception
END:VEVENT
BEGIN:VEVENT
DTSTART;TZID=UTC:20000416T000000
DTEND;TZID=UTC:20000416T000000
DTSTAMP:20260423T054718
CREATED:20231104T214106Z
LAST-MODIFIED:20231104T214106Z
UID:10000618-955843200-955843200@wagnersocietyny.org
SUMMARY:Jane Eaglen Reception
DESCRIPTION:Reception and interview with Jane Eaglen (Brünnhilde in the Met Ring) and her husband\, Brian Lyson; Lew Grenville\, interviewer. At the Goethe-Institut\, 4-6p.m.
URL:https://wagnersocietyny.org/event/jane-eaglen-reception/
CATEGORIES:Artist Talk,Reception
END:VEVENT
BEGIN:VEVENT
DTSTART;TZID=UTC:19991215T000000
DTEND;TZID=UTC:19991215T000000
DTSTAMP:20260423T054718
CREATED:20231104T214104Z
LAST-MODIFIED:20231104T214104Z
UID:10000613-945216000-945216000@wagnersocietyny.org
SUMMARY:Ben Heppner Reception
DESCRIPTION:Reception in honor of Ben Heppner (Met Tristan)\, a joint program of the Society and the Canadian Consulate General. For special contributor members. The Consulate 1251 Ave. of the Americas\, 6:00 p.m.
URL:https://wagnersocietyny.org/event/ben-heppner-reception/
CATEGORIES:Reception
END:VEVENT
BEGIN:VEVENT
DTSTART;TZID=UTC:19991125T000000
DTEND;TZID=UTC:19991125T000000
DTSTAMP:20260423T054718
CREATED:20231104T214050Z
LAST-MODIFIED:20231104T214050Z
UID:10000611-943488000-943488000@wagnersocietyny.org
SUMMARY:Thanksgiving Dinner
DESCRIPTION:Wolfgang and Gudrun Wagner at a traditional Thanksgiving dinner attended by several Society members and friends at the residence of John Ryan and Lia Troy.
URL:https://wagnersocietyny.org/event/thanksgiving-dinner/
CATEGORIES:Reception
END:VEVENT
BEGIN:VEVENT
DTSTART;TZID=UTC:19991029T000000
DTEND;TZID=UTC:19991029T000000
DTSTAMP:20260423T054718
CREATED:20231104T214048Z
LAST-MODIFIED:20231104T214048Z
UID:10000605-941155200-941155200@wagnersocietyny.org
SUMMARY:Talk with Inge Borkh and Blanche Thebom
DESCRIPTION:Reception and Interview with Met divas Inge Borkh and Blanche Thebom; Lew Granville\, interviewer. With slides from their Met performances. Liederkranz Foundation\, 7:30 p.m.
URL:https://wagnersocietyny.org/event/talk-with-inge-borkh-and-blanche-thebom/
CATEGORIES:Artist Talk,Reception
END:VEVENT
BEGIN:VEVENT
DTSTART;TZID=UTC:19981206T000000
DTEND;TZID=UTC:19981206T000000
DTSTAMP:20260423T054718
CREATED:20231105T004030Z
LAST-MODIFIED:20231105T004030Z
UID:10000634-912902400-912902400@wagnersocietyny.org
SUMMARY:Oren Brown Reception
DESCRIPTION:Noted voice teacher Oren Brown with some of his pupils and Society Members\, at the residence of Kit Gill\, 5-7:30pm
URL:https://wagnersocietyny.org/event/oren-brown-reception/
CATEGORIES:Reception,Recital
END:VEVENT
BEGIN:VEVENT
DTSTART;TZID=UTC:19981016T000000
DTEND;TZID=UTC:19981016T000000
DTSTAMP:20260423T054718
CREATED:20231105T004014Z
LAST-MODIFIED:20231105T004014Z
UID:10000632-908496000-908496000@wagnersocietyny.org
SUMMARY:Talk with Eike Wilm Schulte
DESCRIPTION:Interview\, recital\, and reception. Eike Wilm Schulte (baritone and Herald in Met Lohengrin) interviewed by Anthony Coggi (Verena Kossodo\, translator). Mr. Schulte also performed several selections; Mrs. Kossodo\, pianist. Joint program with The Consulate General of the Federal Republic of Germany. German House\, 871 UN Plaza\, 7:30pm
URL:https://wagnersocietyny.org/event/talk-with-eike-wilm-schulte/
CATEGORIES:Artist Talk,Reception
END:VEVENT
BEGIN:VEVENT
DTSTART;TZID=UTC:19980426T000000
DTEND;TZID=UTC:19980426T000000
DTSTAMP:20260423T054718
CREATED:20231105T004133Z
LAST-MODIFIED:20231105T004133Z
UID:10000656-893548800-893548800@wagnersocietyny.org
SUMMARY:Talk with Jon Vickers
DESCRIPTION:Reception and Interview: Jon Vickers\, world-renowned heldentenor; Thurmond Smithall\, interviewer. Program included a videotape of his United Nations performances (Danila Mendoza\, producer). New York Genealogical Society\, 7pm
URL:https://wagnersocietyny.org/event/talk-with-jon-vickers/
CATEGORIES:Artist Talk,Reception
END:VEVENT
BEGIN:VEVENT
DTSTART;TZID=UTC:19980409T000000
DTEND;TZID=UTC:19980409T000000
DTSTAMP:20260423T054718
CREATED:20231105T004133Z
LAST-MODIFIED:20231105T004133Z
UID:10000653-892080000-892080000@wagnersocietyny.org
SUMMARY:Eva Johansson Reception
DESCRIPTION:Eva Johansson (soprano) following her Met debut as Eva in Die Meistersinger on April 6. For special contributor members. Residence of Kit Gill\, 5-8pm
URL:https://wagnersocietyny.org/event/eva-johansson-reception/
CATEGORIES:Reception
END:VEVENT
BEGIN:VEVENT
DTSTART;TZID=UTC:19970510T000000
DTEND;TZID=UTC:19970510T000000
DTSTAMP:20260423T054718
CREATED:20231105T012148Z
LAST-MODIFIED:20231105T012148Z
UID:10000674-863222400-863222400@wagnersocietyny.org
SUMMARY:Hospitality Suite
DESCRIPTION:Hospitality Suite and Boutique. All Met Ring attendees were invited to drop by and become acquainted with the Society. Harmony Atrium (61 West 62nd Street); 4:00-6:00 p.m. of each day.
URL:https://wagnersocietyny.org/event/hospitality-suite-5/
CATEGORIES:Reception
END:VEVENT
BEGIN:VEVENT
DTSTART;TZID=UTC:19970506T000000
DTEND;TZID=UTC:19970506T000000
DTSTAMP:20260423T054718
CREATED:20231105T012148Z
LAST-MODIFIED:20231105T012148Z
UID:10000673-862876800-862876800@wagnersocietyny.org
SUMMARY:Hospitality Suite
DESCRIPTION:Hospitality Suite and Boutique. All Met Ring attendees were invited to drop by and become acquainted with the Society. Harmony Atrium (61 West 62nd Street); 4:00-6:00 p.m. of each day.
URL:https://wagnersocietyny.org/event/hospitality-suite-4/
CATEGORIES:Reception
END:VEVENT
BEGIN:VEVENT
DTSTART;TZID=UTC:19970505T000000
DTEND;TZID=UTC:19970505T000000
DTSTAMP:20260423T054718
CREATED:20231105T004220Z
LAST-MODIFIED:20231105T004220Z
UID:10000669-862790400-862790400@wagnersocietyny.org
SUMMARY:Das Rheingold Dinner
DESCRIPTION:Met Grand Tier Dinner. Society ticket holders for Das Rheingold in the 2nd and 3rd Cycles at the Met were invited to dine on the Grand Tier before the performance. Metropolitan Opera House\, Friday and Monday\, respectively\, 6:00 p.m.
URL:https://wagnersocietyny.org/event/das-rheingold-dinner-8/
CATEGORIES:Reception
END:VEVENT
BEGIN:VEVENT
DTSTART;TZID=UTC:19970503T000000
DTEND;TZID=UTC:19970503T000000
DTSTAMP:20260423T054718
CREATED:20231105T004220Z
LAST-MODIFIED:20231105T004220Z
UID:10000672-862617600-862617600@wagnersocietyny.org
SUMMARY:Hospitality Suite
DESCRIPTION:Hospitality Suite and Boutique. All Met Ring attendees were invited to drop by and become acquainted with the Society. Harmony Atrium (61 West 62nd Street); 4:00-6:00 p.m. of each day.
URL:https://wagnersocietyny.org/event/hospitality-suite-3/
CATEGORIES:Reception
END:VEVENT
BEGIN:VEVENT
DTSTART;TZID=UTC:19970428T000000
DTEND;TZID=UTC:19970428T000000
DTSTAMP:20260423T054718
CREATED:20231105T004220Z
LAST-MODIFIED:20231105T004220Z
UID:10000671-862185600-862185600@wagnersocietyny.org
SUMMARY:Hospitality Suite
DESCRIPTION:Hospitality Suite and Boutique. All Met Ring attendees were invited to drop by and become acquainted with the Society. Harmony Atrium (61 West 62nd Street); 4:00-6:00 p.m. of each day.
URL:https://wagnersocietyny.org/event/hospitality-suite-2/
CATEGORIES:Reception
END:VEVENT
BEGIN:VEVENT
DTSTART;TZID=UTC:19970426T000000
DTEND;TZID=UTC:19970426T000000
DTSTAMP:20260423T054718
CREATED:20231105T004220Z
LAST-MODIFIED:20231105T004220Z
UID:10000670-862012800-862012800@wagnersocietyny.org
SUMMARY:Hospitality Suite
DESCRIPTION:Hospitality Suite and Boutique. All Met Ring attendees were invited to drop by and become acquainted with the Society. Harmony Atrium (61 West 62nd Street); 4:00-6:00 p.m. of each day.
URL:https://wagnersocietyny.org/event/hospitality-suite/
CATEGORIES:Reception
END:VEVENT
BEGIN:VEVENT
DTSTART;TZID=UTC:19970425T000000
DTEND;TZID=UTC:19970425T000000
DTSTAMP:20260423T054718
CREATED:20231105T004220Z
LAST-MODIFIED:20231105T004220Z
UID:10000668-861926400-861926400@wagnersocietyny.org
SUMMARY:Das Rheingold Dinner
DESCRIPTION:Met Grand Tier Dinner. Society ticket holders for Das Rheingold in the 2nd and 3rd Cycles at the Met were invited to dine on the Grand Tier before the performance. Metropolitan Opera House\, Friday and Monday\, respectively\, 6:00 p.m.
URL:https://wagnersocietyny.org/event/das-rheingold-dinner-7/
CATEGORIES:Reception
END:VEVENT
BEGIN:VEVENT
DTSTART;TZID=UTC:19950729T000000
DTEND;TZID=UTC:19950729T000000
DTSTAMP:20260423T054718
CREATED:20231105T012633Z
LAST-MODIFIED:20231105T012633Z
UID:10000721-806976000-806976000@wagnersocietyny.org
SUMMARY:Eaglen and Schwarz Reception
DESCRIPTION:Reception. Jane Eaglen (soprano) and Gerard Schwarz (conductor) following Mostly Mozart Orchestra concert. Residence of Ursula Springer; Saturday\, 10:30 p.m.
URL:https://wagnersocietyny.org/event/eaglen-and-schwarz-reception/
CATEGORIES:Reception
END:VEVENT
BEGIN:VEVENT
DTSTART;TZID=UTC:19950414T000000
DTEND;TZID=UTC:19950414T000000
DTSTAMP:20260423T054718
CREATED:20231105T012617Z
LAST-MODIFIED:20231105T012617Z
UID:10000717-797817600-797817600@wagnersocietyny.org
SUMMARY:Parsifal Dinner
DESCRIPTION:Met Grand Tier Dinner. Society ticket holders for the opening Met Parsifal were invited to dine on the Grand Tier before the performance. Metropolitan Opera House; Friday\, 5:00 p.m.
URL:https://wagnersocietyny.org/event/parsifal-dinner/
CATEGORIES:Reception
END:VEVENT
BEGIN:VEVENT
DTSTART;TZID=UTC:19940330T000000
DTEND;TZID=UTC:19940330T000000
DTSTAMP:20260423T054718
CREATED:20231105T012546Z
LAST-MODIFIED:20231105T012546Z
UID:10000703-764985600-764985600@wagnersocietyny.org
SUMMARY:Dutchman Dinner
DESCRIPTION:Met Grand Tier Dinner. Society ticket holders for the Met Dutchman were invited to dine on the Grand Tier before the performance. Guest of honor: James King\, Met Opera tenor. Metropolitan Opera House; Wednesday\, 6:00 p.m.
URL:https://wagnersocietyny.org/event/dutchman-dinner/
CATEGORIES:Reception
END:VEVENT
END:VCALENDAR